Index of /checkResults/release/bioc-LATEST/GWAS.BAYES/raw-results
Name
Last modified
Size
Description
Parent Directory
-
info.dcf
09-Dec-2023 01:37
275
kunpeng2/
03-Nov-2023 00:40
-
lconway/
09-Dec-2023 01:37
-
nebbiolo2/
09-Dec-2023 01:36
-
palomino4/
09-Dec-2023 01:36
-