Back to Multiple platform build/check report for BioC 3.14
ABCDEF[G]HIJKLMNOPQRSTUVWXYZ

This page was generated on 2021-11-26 15:05:20 -0500 (Fri, 26 Nov 2021).

INSTALL results for GUIDEseq on tokay2

To the developers/maintainers of the GUIDEseq package:
- Please allow up to 24 hours (and sometimes 48 hours) for your latest push to git@git.bioconductor.org:packages/GUIDEseq.git to
reflect on this report. See How and When does the builder pull? When will my changes propagate? here for more information.
- Make sure to use the following settings in order to reproduce any error or warning you see on this page.

raw results

Package 842/2083HostnameOS / ArchINSTALLBUILDCHECKBUILD BIN
GUIDEseq 1.24.0  (landing page)
Lihua Julie Zhu
Snapshot Date: 2021-11-25 04:15:05 -0500 (Thu, 25 Nov 2021)
git_url: https://git.bioconductor.org/packages/GUIDEseq
git_branch: RELEASE_3_14
git_last_commit: 17cac6b
git_last_commit_date: 2021-10-26 12:23:20 -0500 (Tue, 26 Oct 2021)
nebbiolo2Linux (Ubuntu 20.04.3 LTS) / x86_64  OK    OK    OK  UNNEEDED, same version is already published
tokay2Windows Server 2012 R2 Standard / x64  OK    OK    OK    OK  UNNEEDED, same version is already published
machv2macOS 10.14.6 Mojave / x86_64  OK    OK    OK    OK  UNNEEDED, same version is already published

Summary

Package: GUIDEseq
Version: 1.24.0
Command: C:\cygwin\bin\curl.exe -O http://155.52.207.166/BBS/3.14/bioc/src/contrib/GUIDEseq_1.24.0.tar.gz && rm -rf GUIDEseq.buildbin-libdir && mkdir GUIDEseq.buildbin-libdir && C:\Users\biocbuild\bbs-3.14-bioc\R\bin\R.exe CMD INSTALL --merge-multiarch --build --library=GUIDEseq.buildbin-libdir GUIDEseq_1.24.0.tar.gz && C:\Users\biocbuild\bbs-3.14-bioc\R\bin\R.exe CMD INSTALL GUIDEseq_1.24.0.zip && rm GUIDEseq_1.24.0.tar.gz GUIDEseq_1.24.0.zip
StartedAt: 2021-11-25 09:34:46 -0500 (Thu, 25 Nov 2021)
EndedAt: 2021-11-25 09:36:22 -0500 (Thu, 25 Nov 2021)
EllapsedTime: 95.5 seconds
RetCode: 0
Status:   OK  

Command output

##############################################################################
##############################################################################
###
### Running command:
###
###   C:\cygwin\bin\curl.exe -O http://155.52.207.166/BBS/3.14/bioc/src/contrib/GUIDEseq_1.24.0.tar.gz && rm -rf GUIDEseq.buildbin-libdir && mkdir GUIDEseq.buildbin-libdir && C:\Users\biocbuild\bbs-3.14-bioc\R\bin\R.exe CMD INSTALL --merge-multiarch --build --library=GUIDEseq.buildbin-libdir GUIDEseq_1.24.0.tar.gz && C:\Users\biocbuild\bbs-3.14-bioc\R\bin\R.exe CMD INSTALL GUIDEseq_1.24.0.zip && rm GUIDEseq_1.24.0.tar.gz GUIDEseq_1.24.0.zip
###
##############################################################################
##############################################################################


  % Total    % Received % Xferd  Average Speed   Time    Time     Time  Current
                                 Dload  Upload   Total   Spent    Left  Speed

  0     0    0     0    0     0      0      0 --:--:-- --:--:-- --:--:--     0
 32 4528k   32 1456k    0     0  2634k      0  0:00:01 --:--:--  0:00:01 2633k
100 4528k  100 4528k    0     0  3915k      0  0:00:01  0:00:01 --:--:-- 3920k

install for i386

* installing *source* package 'GUIDEseq' ...
** using staged installation
** R
** data
** inst
** byte-compile and prepare package for lazy loading
** help
*** installing help indices
  converting help for package 'GUIDEseq'
    finding HTML links ... done
    GUIDEseq-package                        html  
    GUIDEseqAnalysis                        html  
    annotateOffTargets                      html  
    combineOfftargets                       html  
    createBarcodeFasta                      html  
    getPeaks                                html  
    getUniqueCleavageEvents                 html  
    getUsedBarcodes                         html  
    mergePlusMinusPeaks                     html  
    offTargetAnalysisOfPeakRegions          html  
    peaks.gr                                html  
    uniqueCleavageEvents                    html  
** building package indices
** installing vignettes
** testing if installed package can be loaded from temporary location
** testing if installed package can be loaded from final location
** testing if installed package keeps a record of temporary installation path

install for x64

* installing *source* package 'GUIDEseq' ...
** testing if installed package can be loaded
* MD5 sums
packaged installation of 'GUIDEseq' as GUIDEseq_1.24.0.zip
* DONE (GUIDEseq)
* installing to library 'C:/Users/biocbuild/bbs-3.14-bioc/R/library'
package 'GUIDEseq' successfully unpacked and MD5 sums checked