Back to Multiple platform build/check report for BioC 3.14
ABCDEF[G]HIJKLMNOPQRSTUVWXYZ

This page was generated on 2021-12-03 13:05:17 -0500 (Fri, 03 Dec 2021).

BUILD results for GSVA on tokay2

To the developers/maintainers of the GSVA package:
- Please allow up to 24 hours (and sometimes 48 hours) for your latest push to git@git.bioconductor.org:packages/GSVA.git to
reflect on this report. See How and When does the builder pull? When will my changes propagate? here for more information.
- Make sure to use the following settings in order to reproduce any error or warning you see on this page.

raw results

Package 840/2083HostnameOS / ArchINSTALLBUILDCHECKBUILD BIN
GSVA 1.42.0  (landing page)
Justin Guinney
Snapshot Date: 2021-12-02 01:55:06 -0500 (Thu, 02 Dec 2021)
git_url: https://git.bioconductor.org/packages/GSVA
git_branch: RELEASE_3_14
git_last_commit: c99b10b
git_last_commit_date: 2021-10-26 11:59:07 -0500 (Tue, 26 Oct 2021)
nebbiolo2Linux (Ubuntu 20.04.3 LTS) / x86_64  OK    OK    OK  UNNEEDED, same version is already published
tokay2Windows Server 2012 R2 Standard / x64  OK    OK    OK    OK  UNNEEDED, same version is already published
machv2macOS 10.14.6 Mojave / x86_64  OK    OK    OK    OK  UNNEEDED, same version is already published

Summary

Package: GSVA
Version: 1.42.0
Command: chmod a+r GSVA -R && C:\Users\biocbuild\bbs-3.14-bioc\R\bin\R.exe CMD build --keep-empty-dirs --no-resave-data GSVA
StartedAt: 2021-12-02 11:39:09 -0500 (Thu, 02 Dec 2021)
EndedAt: 2021-12-02 11:42:31 -0500 (Thu, 02 Dec 2021)
EllapsedTime: 201.7 seconds
RetCode: 0
Status:   OK  
PackageFile: GSVA_1.42.0.tar.gz
PackageFileSize: 1.93 MiB

Command output

##############################################################################
##############################################################################
###
### Running command:
###
###   chmod a+r GSVA -R && C:\Users\biocbuild\bbs-3.14-bioc\R\bin\R.exe CMD build --keep-empty-dirs --no-resave-data GSVA
###
##############################################################################
##############################################################################


* checking for file 'GSVA/DESCRIPTION' ... OK
* preparing 'GSVA':
* checking DESCRIPTION meta-information ... OK
* cleaning src
* installing the package to build vignettes
* creating vignettes ... OK
* cleaning src
* checking for LF line-endings in source and make files and shell scripts
* checking for empty or unneeded directories
* building 'GSVA_1.42.0.tar.gz'
Warning: file 'GSVA/cleanup' did not have execute permissions: corrected