Back to Multiple platform build/check report for BioC 3.14
ABCDEF[G]HIJKLMNOPQRSTUVWXYZ

This page was generated on 2021-12-03 13:05:17 -0500 (Fri, 03 Dec 2021).

BUILD BIN results for GSVA on tokay2

To the developers/maintainers of the GSVA package:
- Please allow up to 24 hours (and sometimes 48 hours) for your latest push to git@git.bioconductor.org:packages/GSVA.git to
reflect on this report. See How and When does the builder pull? When will my changes propagate? here for more information.
- Make sure to use the following settings in order to reproduce any error or warning you see on this page.

raw results

Package 840/2083HostnameOS / ArchINSTALLBUILDCHECKBUILD BIN
GSVA 1.42.0  (landing page)
Justin Guinney
Snapshot Date: 2021-12-02 01:55:06 -0500 (Thu, 02 Dec 2021)
git_url: https://git.bioconductor.org/packages/GSVA
git_branch: RELEASE_3_14
git_last_commit: c99b10b
git_last_commit_date: 2021-10-26 11:59:07 -0500 (Tue, 26 Oct 2021)
nebbiolo2Linux (Ubuntu 20.04.3 LTS) / x86_64  OK    OK    OK  UNNEEDED, same version is already published
tokay2Windows Server 2012 R2 Standard / x64  OK    OK    OK    OK  UNNEEDED, same version is already published
machv2macOS 10.14.6 Mojave / x86_64  OK    OK    OK    OK  UNNEEDED, same version is already published

Summary

Package: GSVA
Version: 1.42.0
Command: rm -rf GSVA.buildbin-libdir && mkdir GSVA.buildbin-libdir && C:\Users\biocbuild\bbs-3.14-bioc\R\bin\R.exe CMD INSTALL --merge-multiarch --build --library=GSVA.buildbin-libdir GSVA_1.42.0.tar.gz
StartedAt: 2021-12-03 08:03:35 -0500 (Fri, 03 Dec 2021)
EndedAt: 2021-12-03 08:04:58 -0500 (Fri, 03 Dec 2021)
EllapsedTime: 83.5 seconds
RetCode: 0
Status:   OK  
PackageFile: GSVA_1.42.0.zip
PackageFileSize: 1.515 MiB

Command output

##############################################################################
##############################################################################
###
### Running command:
###
###   rm -rf GSVA.buildbin-libdir && mkdir GSVA.buildbin-libdir && C:\Users\biocbuild\bbs-3.14-bioc\R\bin\R.exe CMD INSTALL --merge-multiarch --build --library=GSVA.buildbin-libdir GSVA_1.42.0.tar.gz
###
##############################################################################
##############################################################################



install for i386

* installing *source* package 'GSVA' ...
** using staged installation
** libs
"C:/rtools40/mingw32/bin/"gcc  -I"C:/Users/BIOCBU~1/BBS-3~1.14-/R/include" -DNDEBUG     -I"C:/extsoft/include"     -O2 -Wall  -std=gnu99 -mfpmath=sse -msse2 -mstackrealign  -c kernel_estimation.c -o kernel_estimation.o
"C:/rtools40/mingw32/bin/"gcc  -I"C:/Users/BIOCBU~1/BBS-3~1.14-/R/include" -DNDEBUG     -I"C:/extsoft/include"     -O2 -Wall  -std=gnu99 -mfpmath=sse -msse2 -mstackrealign  -c ks_test.c -o ks_test.o
ks_test.c: In function 'ks_sample':
ks_test.c:24:9: warning: unused variable 'mx_value' [-Wunused-variable]
  double mx_value = 0.0;
         ^~~~~~~~
"C:/rtools40/mingw32/bin/"gcc  -I"C:/Users/BIOCBU~1/BBS-3~1.14-/R/include" -DNDEBUG     -I"C:/extsoft/include"     -O2 -Wall  -std=gnu99 -mfpmath=sse -msse2 -mstackrealign  -c register_cmethods.c -o register_cmethods.o
C:/rtools40/mingw32/bin/gcc -shared -s -static-libgcc -o GSVA.dll tmp.def kernel_estimation.o ks_test.o register_cmethods.o -LC:/extsoft/lib/i386 -LC:/extsoft/lib -LC:/Users/BIOCBU~1/BBS-3~1.14-/R/bin/i386 -lR
installing to C:/Users/biocbuild/bbs-3.14-bioc/meat/GSVA.buildbin-libdir/00LOCK-GSVA/00new/GSVA/libs/i386
** R
** inst
** byte-compile and prepare package for lazy loading
** help
*** installing help indices
  converting help for package 'GSVA'
    finding HTML links ... done
    computeGeneSetsOverlap                  html  
    filterGeneSets                          html  
    gsva                                    html  
    finding level-2 HTML links ... done

    igsva                                   html  
** building package indices
** installing vignettes
** testing if installed package can be loaded from temporary location
** testing if installed package can be loaded from final location
** testing if installed package keeps a record of temporary installation path

install for x64

* installing *source* package 'GSVA' ...
** libs
"C:/rtools40/mingw64/bin/"gcc  -I"C:/Users/BIOCBU~1/BBS-3~1.14-/R/include" -DNDEBUG     -I"C:/extsoft/include"     -O2 -Wall  -std=gnu99 -mfpmath=sse -msse2 -mstackrealign  -c kernel_estimation.c -o kernel_estimation.o
"C:/rtools40/mingw64/bin/"gcc  -I"C:/Users/BIOCBU~1/BBS-3~1.14-/R/include" -DNDEBUG     -I"C:/extsoft/include"     -O2 -Wall  -std=gnu99 -mfpmath=sse -msse2 -mstackrealign  -c ks_test.c -o ks_test.o
ks_test.c: In function 'ks_sample':
ks_test.c:24:9: warning: unused variable 'mx_value' [-Wunused-variable]
  double mx_value = 0.0;
         ^~~~~~~~
"C:/rtools40/mingw64/bin/"gcc  -I"C:/Users/BIOCBU~1/BBS-3~1.14-/R/include" -DNDEBUG     -I"C:/extsoft/include"     -O2 -Wall  -std=gnu99 -mfpmath=sse -msse2 -mstackrealign  -c register_cmethods.c -o register_cmethods.o
C:/rtools40/mingw64/bin/gcc -shared -s -static-libgcc -o GSVA.dll tmp.def kernel_estimation.o ks_test.o register_cmethods.o -LC:/extsoft/lib/x64 -LC:/extsoft/lib -LC:/Users/BIOCBU~1/BBS-3~1.14-/R/bin/x64 -lR
installing to C:/Users/biocbuild/bbs-3.14-bioc/meat/GSVA.buildbin-libdir/GSVA/libs/x64
** testing if installed package can be loaded
* MD5 sums
packaged installation of 'GSVA' as GSVA_1.42.0.zip
* DONE (GSVA)