Back to Multiple platform build/check report for BioC 3.16
ABCDEF[G]HIJKLMNOPQRSTUVWXYZ

This page was generated on 2022-11-26 11:05:30 -0500 (Sat, 26 Nov 2022).

HostnameOSArch (*)R versionInstalled pkgs
nebbiolo2Linux (Ubuntu 20.04.5 LTS)x86_644.2.2 (2022-10-31) -- "Innocent and Trusting" 4503
palomino4Windows Server 2022 Datacenterx644.2.2 (2022-10-31 ucrt) -- "Innocent and Trusting" 4277
lconwaymacOS 12.5.1 Montereyx86_644.2.2 (2022-10-31) -- "Innocent and Trusting" 4309
Click on any hostname to see more info about the system (e.g. compilers)      (*) as reported by 'uname -p', except on Windows and Mac OS X

BUILD results for GSVA on nebbiolo2


To the developers/maintainers of the GSVA package:
- Please allow up to 24 hours (and sometimes 48 hours) for your latest push to git@git.bioconductor.org:packages/GSVA.git to
reflect on this report. See How and When does the builder pull? When will my changes propagate? for more information.
- Make sure to use the following settings in order to reproduce any error or warning you see on this page.

raw results

Package 877/2183HostnameOS / ArchINSTALLBUILDCHECKBUILD BIN
GSVA 1.46.0  (landing page)
Robert Castelo
Snapshot Date: 2022-11-25 14:00:04 -0500 (Fri, 25 Nov 2022)
git_url: https://git.bioconductor.org/packages/GSVA
git_branch: RELEASE_3_16
git_last_commit: 4036d9f
git_last_commit_date: 2022-11-01 11:05:54 -0500 (Tue, 01 Nov 2022)
nebbiolo2Linux (Ubuntu 20.04.5 LTS) / x86_64  OK    OK    OK  UNNEEDED, same version is already published
palomino4Windows Server 2022 Datacenter / x64  OK    OK    OK    OK  UNNEEDED, same version is already published
lconwaymacOS 12.5.1 Monterey / x86_64  OK    OK    OK    OK  UNNEEDED, same version is already published

Summary

Package: GSVA
Version: 1.46.0
Command: /home/biocbuild/bbs-3.16-bioc/R/bin/R CMD build --keep-empty-dirs --no-resave-data GSVA
StartedAt: 2022-11-25 16:57:33 -0500 (Fri, 25 Nov 2022)
EndedAt: 2022-11-25 17:00:55 -0500 (Fri, 25 Nov 2022)
EllapsedTime: 201.2 seconds
RetCode: 0
Status:   OK  
PackageFile: GSVA_1.46.0.tar.gz
PackageFileSize: 2.163 MiB

Command output

##############################################################################
##############################################################################
###
### Running command:
###
###   /home/biocbuild/bbs-3.16-bioc/R/bin/R CMD build --keep-empty-dirs --no-resave-data GSVA
###
##############################################################################
##############################################################################


* checking for file ‘GSVA/DESCRIPTION’ ... OK
* preparing ‘GSVA’:
* checking DESCRIPTION meta-information ... OK
* cleaning src
* running ‘cleanup’
* installing the package to build vignettes
* creating vignettes ... OK
* cleaning src
* running ‘cleanup’
* checking for LF line-endings in source and make files and shell scripts
* checking for empty or unneeded directories
* building ‘GSVA_1.46.0.tar.gz’