Index of /checkResults/release/bioc-LATEST/GSReg/raw-results

[ICO]NameLast modifiedSizeDescription

[DIR]Parent Directory  -  
[   ]info.dcf21-May-2024 00:35 299  
[DIR]kunpeng2/10-May-2024 00:40 -  
[DIR]lconway/21-May-2024 00:37 -  
[DIR]merida1/05-Mar-2024 01:39 -  
[DIR]nebbiolo1/21-May-2024 00:36 -  
[DIR]palomino3/21-May-2024 00:37 -