Back to Multiple platform build/check report for BioC 3.14
ABCDEF[G]HIJKLMNOPQRSTUVWXYZ

This page was generated on 2021-11-29 15:05:24 -0500 (Mon, 29 Nov 2021).

BUILD results for GSEABenchmarkeR on tokay2

To the developers/maintainers of the GSEABenchmarkeR package:
- Please allow up to 24 hours (and sometimes 48 hours) for your latest push to git@git.bioconductor.org:packages/GSEABenchmarkeR.git to
reflect on this report. See How and When does the builder pull? When will my changes propagate? here for more information.
- Make sure to use the following settings in order to reproduce any error or warning you see on this page.

raw results

Package 833/2083HostnameOS / ArchINSTALLBUILDCHECKBUILD BIN
GSEABenchmarkeR 1.14.0  (landing page)
Ludwig Geistlinger
Snapshot Date: 2021-11-28 04:15:06 -0500 (Sun, 28 Nov 2021)
git_url: https://git.bioconductor.org/packages/GSEABenchmarkeR
git_branch: RELEASE_3_14
git_last_commit: e2d1e39
git_last_commit_date: 2021-10-26 12:43:02 -0500 (Tue, 26 Oct 2021)
nebbiolo2Linux (Ubuntu 20.04.3 LTS) / x86_64  OK    OK    OK  UNNEEDED, same version is already published
tokay2Windows Server 2012 R2 Standard / x64  OK    OK    OK    OK  UNNEEDED, same version is already published
machv2macOS 10.14.6 Mojave / x86_64  OK    OK    OK    OK  UNNEEDED, same version is already published

Summary

Package: GSEABenchmarkeR
Version: 1.14.0
Command: chmod a+r GSEABenchmarkeR -R && C:\Users\biocbuild\bbs-3.14-bioc\R\bin\R.exe CMD build --keep-empty-dirs --no-resave-data GSEABenchmarkeR
StartedAt: 2021-11-28 13:18:50 -0500 (Sun, 28 Nov 2021)
EndedAt: 2021-11-28 13:22:34 -0500 (Sun, 28 Nov 2021)
EllapsedTime: 224.1 seconds
RetCode: 0
Status:   OK  
PackageFile: GSEABenchmarkeR_1.14.0.tar.gz
PackageFileSize: 555 KiB

Command output

##############################################################################
##############################################################################
###
### Running command:
###
###   chmod a+r GSEABenchmarkeR -R && C:\Users\biocbuild\bbs-3.14-bioc\R\bin\R.exe CMD build --keep-empty-dirs --no-resave-data GSEABenchmarkeR
###
##############################################################################
##############################################################################


* checking for file 'GSEABenchmarkeR/DESCRIPTION' ... OK
* preparing 'GSEABenchmarkeR':
* checking DESCRIPTION meta-information ... OK
* installing the package to build vignettes
* creating vignettes ... OK
* checking for LF line-endings in source and make files and shell scripts
* checking for empty or unneeded directories
Omitted 'LazyData' from DESCRIPTION
* building 'GSEABenchmarkeR_1.14.0.tar.gz'