Back to Multiple platform build/check report for BioC 3.18:   simplified   long
ABCDEF[G]HIJKLMNOPQRSTUVWXYZ

This page was generated on 2024-03-29 11:36:00 -0400 (Fri, 29 Mar 2024).

HostnameOSArch (*)R versionInstalled pkgs
nebbiolo2Linux (Ubuntu 22.04.3 LTS)x86_644.3.3 (2024-02-29) -- "Angel Food Cake" 4669
palomino4Windows Server 2022 Datacenterx644.3.3 (2024-02-29 ucrt) -- "Angel Food Cake" 4404
merida1macOS 12.7.1 Montereyx86_644.3.3 (2024-02-29) -- "Angel Food Cake" 4427
Click on any hostname to see more info about the system (e.g. compilers)      (*) as reported by 'uname -p', except on Windows and Mac OS X

Package 909/2266HostnameOS / ArchINSTALLBUILDCHECKBUILD BIN
GSCA 2.32.0  (landing page)
Zhicheng Ji
Snapshot Date: 2024-03-27 14:05:05 -0400 (Wed, 27 Mar 2024)
git_url: https://git.bioconductor.org/packages/GSCA
git_branch: RELEASE_3_18
git_last_commit: b2337be
git_last_commit_date: 2023-10-24 09:57:32 -0400 (Tue, 24 Oct 2023)
nebbiolo2Linux (Ubuntu 22.04.3 LTS) / x86_64  OK    OK    OK  UNNEEDED, same version is already published
palomino4Windows Server 2022 Datacenter / x64  OK    OK    OK    OK  UNNEEDED, same version is already published
merida1macOS 12.7.1 Monterey / x86_64  OK    OK    OK    OK  UNNEEDED, same version is already published
kjohnson1macOS 13.6.1 Ventura / arm64see weekly results here

CHECK results for GSCA on nebbiolo2


To the developers/maintainers of the GSCA package:
- Allow up to 24 hours (and sometimes 48 hours) for your latest push to git@git.bioconductor.org:packages/GSCA.git to reflect on this report. See Troubleshooting Build Report for more information.
- Use the following Renviron settings to reproduce errors and warnings.
- If 'R CMD check' started to fail recently on the Linux builder(s) over a missing dependency, add the missing dependency to 'Suggests:' in your DESCRIPTION file. See Renviron.bioc for more information.

raw results


Summary

Package: GSCA
Version: 2.32.0
Command: /home/biocbuild/bbs-3.18-bioc/R/bin/R CMD check --install=check:GSCA.install-out.txt --library=/home/biocbuild/bbs-3.18-bioc/R/site-library --timings GSCA_2.32.0.tar.gz
StartedAt: 2024-03-27 23:07:57 -0400 (Wed, 27 Mar 2024)
EndedAt: 2024-03-27 23:10:46 -0400 (Wed, 27 Mar 2024)
EllapsedTime: 169.0 seconds
RetCode: 0
Status:   OK  
CheckDir: GSCA.Rcheck
Warnings: 0

Command output

##############################################################################
##############################################################################
###
### Running command:
###
###   /home/biocbuild/bbs-3.18-bioc/R/bin/R CMD check --install=check:GSCA.install-out.txt --library=/home/biocbuild/bbs-3.18-bioc/R/site-library --timings GSCA_2.32.0.tar.gz
###
##############################################################################
##############################################################################


* using log directory ‘/home/biocbuild/bbs-3.18-bioc/meat/GSCA.Rcheck’
* using R version 4.3.3 (2024-02-29)
* using platform: x86_64-pc-linux-gnu (64-bit)
* R was compiled by
    gcc (Ubuntu 11.4.0-1ubuntu1~22.04) 11.4.0
    GNU Fortran (Ubuntu 11.4.0-1ubuntu1~22.04) 11.4.0
* running under: Ubuntu 22.04.4 LTS
* using session charset: UTF-8
* checking for file ‘GSCA/DESCRIPTION’ ... OK
* checking extension type ... Package
* this is package ‘GSCA’ version ‘2.32.0’
* checking package namespace information ... OK
* checking package dependencies ... NOTE
Depends: includes the non-default packages:
  'shiny', 'sp', 'gplots', 'ggplot2', 'reshape2', 'RColorBrewer',
  'rhdf5'
Adding so many packages to the search path is excessive and importing
selectively is preferable.
* checking if this is a source package ... OK
* checking if there is a namespace ... OK
* checking for hidden files and directories ... OK
* checking for portable file names ... OK
* checking for sufficient/correct file permissions ... OK
* checking whether package ‘GSCA’ can be installed ... OK
* checking installed package size ... OK
* checking package directory ... OK
* checking ‘build’ directory ... OK
* checking DESCRIPTION meta-information ... OK
* checking top-level files ... OK
* checking for left-over files ... OK
* checking index information ... OK
* checking package subdirectories ... OK
* checking R files for non-ASCII characters ... OK
* checking R files for syntax errors ... OK
* checking whether the package can be loaded ... OK
* checking whether the package can be loaded with stated dependencies ... OK
* checking whether the package can be unloaded cleanly ... OK
* checking whether the namespace can be loaded with stated dependencies ... OK
* checking whether the namespace can be unloaded cleanly ... OK
* checking loading without being on the library search path ... OK
* checking dependencies in R code ... NOTE
'library' or 'require' calls in package code:
  ‘Affyhgu133A2Expr’ ‘Affyhgu133Plus2Expr’ ‘Affyhgu133aExpr’
  ‘Affymoe4302Expr’
  Please use :: or requireNamespace() instead.
  See section 'Suggested packages' in the 'Writing R Extensions' manual.
* checking S3 generic/method consistency ... OK
* checking replacement functions ... OK
* checking foreign function calls ... OK
* checking R code for possible problems ... NOTE
GSCA: no visible global function definition for ‘data’
GSCA: no visible binding for global variable ‘Affyhgu133aExprtab’
GSCA: no visible binding for global variable ‘Affymoe4302Exprtab’
GSCA: no visible binding for global variable ‘Affyhgu133A2Exprtab’
GSCA: no visible binding for global variable ‘Affyhgu133Plus2Exprtab’
GSCA: no visible binding for global variable ‘geneid’
GSCA: no visible global function definition for ‘qnorm’
GSCA: no visible global function definition for ‘sd’
GSCA: no visible global function definition for ‘quantile’
GSCA: no visible global function definition for ‘fisher.test’
GSCAeda: no visible global function definition for ‘data’
GSCAeda: no visible binding for global variable ‘Affyhgu133aExprtab’
GSCAeda: no visible binding for global variable ‘Affymoe4302Exprtab’
GSCAeda: no visible binding for global variable ‘Affyhgu133A2Exprtab’
GSCAeda: no visible binding for global variable
  ‘Affyhgu133Plus2Exprtab’
GSCAeda: no visible binding for global variable ‘geneid’
GSCAeda: no visible global function definition for ‘qnorm’
GSCAeda: no visible global function definition for ‘sd’
GSCAeda: no visible global function definition for ‘quantile’
GSCAeda: no visible global function definition for ‘pdf’
GSCAeda: no visible global function definition for ‘str’
GSCAeda: no visible binding for global variable ‘variable’
GSCAeda: no visible binding for global variable ‘value’
GSCAeda: no visible binding for global variable ‘SampleType’
GSCAeda: no visible global function definition for ‘par’
GSCAeda: no visible global function definition for ‘colorRampPalette’
GSCAeda: no visible global function definition for ‘t.test’
GSCAeda: no visible binding for global variable ‘Var1’
GSCAeda: no visible binding for global variable ‘Var2’
GSCAeda: no visible binding for global variable ‘t.stat’
GSCAeda: no visible binding for global variable ‘P.value’
GSCAeda: no visible global function definition for ‘fisher.test’
GSCAeda: no visible global function definition for ‘dev.off’
GSCAeda: no visible global function definition for ‘write.csv’
GSCAeda: no visible global function definition for ‘write.table’
GSCAplot: no visible global function definition for ‘data’
GSCAplot: no visible binding for global variable ‘Affyhgu133aExprtab’
GSCAplot: no visible binding for global variable ‘Affymoe4302Exprtab’
GSCAplot: no visible binding for global variable ‘Affyhgu133A2Exprtab’
GSCAplot: no visible binding for global variable
  ‘Affyhgu133Plus2Exprtab’
GSCAplot: no visible global function definition for ‘pdf’
GSCAplot: no visible global function definition for ‘par’
GSCAplot: no visible global function definition for ‘hist’
GSCAplot: no visible global function definition for ‘title’
GSCAplot: no visible global function definition for ‘dev.off’
annotatePeaks: no visible binding for global variable ‘allreffile’
tabSearch: no visible global function definition for ‘data’
tabSearch: no visible binding for global variable ‘Affyhgu133aExprtab’
tabSearch: no visible binding for global variable ‘Affymoe4302Exprtab’
tabSearch: no visible binding for global variable ‘Affyhgu133A2Exprtab’
tabSearch: no visible binding for global variable
  ‘Affyhgu133Plus2Exprtab’
Undefined global functions or variables:
  Affyhgu133A2Exprtab Affyhgu133Plus2Exprtab Affyhgu133aExprtab
  Affymoe4302Exprtab P.value SampleType Var1 Var2 allreffile
  colorRampPalette data dev.off fisher.test geneid hist par pdf qnorm
  quantile sd str t.stat t.test title value variable write.csv
  write.table
Consider adding
  importFrom("grDevices", "colorRampPalette", "dev.off", "pdf")
  importFrom("graphics", "hist", "par", "title")
  importFrom("stats", "fisher.test", "qnorm", "quantile", "sd", "t.test")
  importFrom("utils", "data", "str", "write.csv", "write.table")
to your NAMESPACE file.
* checking Rd files ... OK
* checking Rd metadata ... OK
* checking Rd cross-references ... OK
* checking for missing documentation entries ... OK
* checking for code/documentation mismatches ... OK
* checking Rd \usage sections ... OK
* checking Rd contents ... OK
* checking for unstated dependencies in examples ... OK
* checking contents of ‘data’ directory ... OK
* checking data for non-ASCII characters ... OK
* checking data for ASCII and uncompressed saves ... OK
* checking files in ‘vignettes’ ... OK
* checking examples ... OK
Examples with CPU (user + system) or elapsed time > 5s
                user system elapsed
GSCA          66.736  2.680  69.641
GSCAplot      22.052  1.232  23.859
annotatePeaks  5.468  0.372   6.144
ConstructTG    4.875  0.148   5.024
* checking for unstated dependencies in vignettes ... OK
* checking package vignettes in ‘inst/doc’ ... OK
* checking running R code from vignettes ...
  ‘GSCA.Rnw’... OK
 OK
* checking re-building of vignette outputs ... OK
* checking PDF version of manual ... OK
* DONE

Status: 3 NOTEs
See
  ‘/home/biocbuild/bbs-3.18-bioc/meat/GSCA.Rcheck/00check.log’
for details.



Installation output

GSCA.Rcheck/00install.out

##############################################################################
##############################################################################
###
### Running command:
###
###   /home/biocbuild/bbs-3.18-bioc/R/bin/R CMD INSTALL GSCA
###
##############################################################################
##############################################################################


* installing to library ‘/home/biocbuild/bbs-3.18-bioc/R/site-library’
* installing *source* package ‘GSCA’ ...
** using staged installation
** R
** data
** inst
** byte-compile and prepare package for lazy loading
** help
*** installing help indices
** building package indices
** installing vignettes
** testing if installed package can be loaded from temporary location
** testing if installed package can be loaded from final location
** testing if installed package keeps a record of temporary installation path
* DONE (GSCA)

Tests output


Example timings

GSCA.Rcheck/GSCA-Ex.timings

nameusersystemelapsed
ConstructTG4.8750.1485.024
GSCA66.736 2.68069.641
GSCAeda3.4040.0123.426
GSCAplot22.052 1.23223.859
GSCAui000
Oct4ESC_TG0.0020.0000.002
STAT1_TG0.0010.0000.001
annotatePeaks5.4680.3726.144
geneIDdata0.0470.0000.047
tabSearch0.1850.0040.189