![]() | Name | Last modified | Size | Description |
---|---|---|---|---|
![]() | Parent Directory | - | ||
![]() | buildbin-out.txt | 29-Sep-2023 00:36 | 1.1K | |
![]() | buildbin-summary.dcf | 29-Sep-2023 00:36 | 511 | |
![]() | buildsrc-out.txt | 29-Sep-2023 00:36 | 899 | |
![]() | buildsrc-summary.dcf | 29-Sep-2023 00:36 | 452 | |
![]() | checksrc-out.txt | 29-Sep-2023 00:36 | 4.8K | |
![]() | checksrc-summary.dcf | 29-Sep-2023 00:36 | 451 | |
![]() | install-out.txt | 29-Sep-2023 00:36 | 962 | |
![]() | install-summary.dcf | 29-Sep-2023 00:36 | 268 | |