![]() | Name | Last modified | Size | Description |
---|---|---|---|---|
![]() | Parent Directory | - | ||
![]() | buildsrc-out.txt | 29-Sep-2023 00:35 | 869 | |
![]() | buildsrc-summary.dcf | 29-Sep-2023 00:35 | 417 | |
![]() | checksrc-out.txt | 29-Sep-2023 00:35 | 4.8K | |
![]() | checksrc-summary.dcf | 29-Sep-2023 00:35 | 418 | |
![]() | install-out.txt | 29-Sep-2023 00:35 | 952 | |
![]() | install-summary.dcf | 29-Sep-2023 00:35 | 258 | |