Name | Last modified | Size | Description | |
---|---|---|---|---|
Parent Directory | - | |||
install-summary.dcf | 29-Jun-2024 06:41 | 265 | ||
install-out.txt | 29-Jun-2024 06:41 | 1.3K | ||
checksrc-summary.dcf | 29-Jun-2024 06:41 | 447 | ||
checksrc-out.txt | 29-Jun-2024 06:41 | 5.9K | ||
buildsrc-summary.dcf | 29-Jun-2024 06:41 | 447 | ||
buildsrc-out.txt | 29-Jun-2024 06:41 | 920 | ||
buildbin-summary.dcf | 29-Jun-2024 06:41 | 505 | ||
buildbin-out.txt | 29-Jun-2024 06:41 | 1.4K | ||