Name | Last modified | Size | Description | |
---|---|---|---|---|
Parent Directory | - | |||
checksrc-summary.dcf | 27-Jul-2024 06:38 | 414 | ||
checksrc-out.txt | 27-Jul-2024 06:38 | 6.0K | ||
buildsrc-summary.dcf | 27-Jul-2024 06:38 | 413 | ||
buildsrc-out.txt | 27-Jul-2024 06:38 | 894 | ||
install-out.txt | 27-Jul-2024 06:38 | 961 | ||
install-summary.dcf | 27-Jul-2024 06:38 | 256 | ||