Name | Last modified | Size | Description | |
---|---|---|---|---|
Parent Directory | - | |||
buildsrc-out.txt | 10-May-2024 00:40 | 871 | ||
buildsrc-summary.dcf | 10-May-2024 00:40 | 417 | ||
checksrc-out.txt | 10-May-2024 00:40 | 3.6K | ||
checksrc-summary.dcf | 10-May-2024 00:40 | 434 | ||
install-out.txt | 10-May-2024 00:40 | 1.6K | ||
install-summary.dcf | 10-May-2024 00:40 | 262 | ||