Name | Last modified | Size | Description | |
---|---|---|---|---|
Parent Directory | - | |||
buildbin-summary.dcf | 17-Jul-2024 06:41 | 531 | ||
buildbin-out.txt | 17-Jul-2024 06:41 | 14K | ||
checksrc-out.txt | 17-Jul-2024 06:41 | 3.8K | ||
checksrc-summary.dcf | 17-Jul-2024 06:41 | 444 | ||
buildsrc-summary.dcf | 17-Jul-2024 06:41 | 428 | ||
buildsrc-out.txt | 17-Jul-2024 06:41 | 909 | ||
install-summary.dcf | 17-Jul-2024 06:41 | 270 | ||
install-out.txt | 17-Jul-2024 06:41 | 12K | ||