Name | Last modified | Size | Description | |
---|---|---|---|---|
Parent Directory | - | |||
install-summary.dcf | 12-Jun-2024 03:43 | 270 | ||
buildsrc-summary.dcf | 12-Jun-2024 03:43 | 428 | ||
checksrc-summary.dcf | 12-Jun-2024 03:43 | 444 | ||
buildbin-summary.dcf | 12-Jun-2024 03:43 | 531 | ||
buildsrc-out.txt | 12-Jun-2024 03:43 | 909 | ||
checksrc-out.txt | 12-Jun-2024 03:43 | 3.8K | ||
install-out.txt | 12-Jun-2024 03:43 | 13K | ||
buildbin-out.txt | 12-Jun-2024 03:43 | 15K | ||