![]() | Name | Last modified | Size | Description |
---|---|---|---|---|
![]() | Parent Directory | - | ||
![]() | buildbin-out.txt | 30-Sep-2023 00:36 | 2.2K | |
![]() | buildbin-summary.dcf | 30-Sep-2023 00:36 | 503 | |
![]() | buildsrc-out.txt | 30-Sep-2023 00:36 | 921 | |
![]() | buildsrc-summary.dcf | 30-Sep-2023 00:36 | 442 | |
![]() | checksrc-out.txt | 30-Sep-2023 00:36 | 7.1K | |
![]() | checksrc-summary.dcf | 30-Sep-2023 00:36 | 439 | |
![]() | install-out.txt | 30-Sep-2023 00:36 | 2.0K | |
![]() | install-summary.dcf | 30-Sep-2023 00:36 | 264 | |