![]() | Name | Last modified | Size | Description |
---|---|---|---|---|
![]() | Parent Directory | - | ||
![]() | buildsrc-out.txt | 23-Sep-2023 00:35 | 891 | |
![]() | buildsrc-summary.dcf | 23-Sep-2023 00:35 | 411 | |
![]() | checksrc-out.txt | 23-Sep-2023 00:35 | 9.1K | |
![]() | checksrc-summary.dcf | 23-Sep-2023 00:35 | 412 | |
![]() | install-out.txt | 23-Sep-2023 00:35 | 1.9K | |
![]() | install-summary.dcf | 23-Sep-2023 00:35 | 255 | |