![]() | Name | Last modified | Size | Description |
---|---|---|---|---|
![]() | Parent Directory | - | ||
![]() | buildbin-out.txt | 28-Sep-2023 00:37 | 4.4K | |
![]() | buildbin-summary.dcf | 28-Sep-2023 00:37 | 519 | |
![]() | buildsrc-out.txt | 28-Sep-2023 00:37 | 901 | |
![]() | buildsrc-summary.dcf | 28-Sep-2023 00:37 | 422 | |
![]() | checksrc-out.txt | 28-Sep-2023 00:37 | 6.7K | |
![]() | checksrc-summary.dcf | 28-Sep-2023 00:37 | 437 | |
![]() | install-out.txt | 28-Sep-2023 00:37 | 2.4K | |
![]() | install-summary.dcf | 28-Sep-2023 00:37 | 265 | |