Name | Last modified | Size | Description | |
---|---|---|---|---|
Parent Directory | - | |||
checksrc-out.txt | 10-May-2024 00:40 | 6.8K | ||
install-out.txt | 10-May-2024 00:40 | 2.2K | ||
buildsrc-out.txt | 10-May-2024 00:40 | 902 | ||
checksrc-summary.dcf | 10-May-2024 00:40 | 443 | ||
buildsrc-summary.dcf | 10-May-2024 00:40 | 420 | ||
install-summary.dcf | 10-May-2024 00:40 | 266 | ||