Back to Multiple platform build/check report for BioC 3.17: simplified long |
|
This page was generated on 2023-10-02 11:37:21 -0400 (Mon, 02 Oct 2023).
Hostname | OS | Arch (*) | R version | Installed pkgs |
---|---|---|---|---|
nebbiolo1 | Linux (Ubuntu 22.04.2 LTS) | x86_64 | 4.3.1 (2023-06-16) -- "Beagle Scouts" | 4626 |
palomino3 | Windows Server 2022 Datacenter | x64 | 4.3.1 (2023-06-16 ucrt) -- "Beagle Scouts" | 4379 |
merida1 | macOS 12.6.4 Monterey | x86_64 | 4.3.1 (2023-06-16) -- "Beagle Scouts" | 4395 |
Click on any hostname to see more info about the system (e.g. compilers) (*) as reported by 'uname -p', except on Windows and Mac OS X |
Package 863/2230 | Hostname | OS / Arch | INSTALL | BUILD | CHECK | BUILD BIN | ||||||||
GOSim 1.38.0 (landing page) Holger Froehlich
| nebbiolo1 | Linux (Ubuntu 22.04.2 LTS) / x86_64 | OK | OK | WARNINGS | ![]() | ||||||||
palomino3 | Windows Server 2022 Datacenter / x64 | OK | OK | OK | OK | ![]() | ||||||||
merida1 | macOS 12.6.4 Monterey / x86_64 | OK | OK | OK | OK | ![]() | ||||||||
To the developers/maintainers of the GOSim package: - Allow up to 24 hours (and sometimes 48 hours) for your latest push to git@git.bioconductor.org:packages/GOSim.git to reflect on this report. See Troubleshooting Build Report for more information. - Use the following Renviron settings to reproduce errors and warnings. - If 'R CMD check' started to fail recently on the Linux builder(s) over a missing dependency, add the missing dependency to 'Suggests:' in your DESCRIPTION file. See Renviron.bioc for more information. |
Package: GOSim |
Version: 1.38.0 |
Command: /Library/Frameworks/R.framework/Resources/bin/R CMD check --install=check:GOSim.install-out.txt --library=/Library/Frameworks/R.framework/Resources/library --no-vignettes --timings GOSim_1.38.0.tar.gz |
StartedAt: 2023-10-02 02:25:55 -0400 (Mon, 02 Oct 2023) |
EndedAt: 2023-10-02 02:45:19 -0400 (Mon, 02 Oct 2023) |
EllapsedTime: 1163.3 seconds |
RetCode: 0 |
Status: OK |
CheckDir: GOSim.Rcheck |
Warnings: 0 |
############################################################################## ############################################################################## ### ### Running command: ### ### /Library/Frameworks/R.framework/Resources/bin/R CMD check --install=check:GOSim.install-out.txt --library=/Library/Frameworks/R.framework/Resources/library --no-vignettes --timings GOSim_1.38.0.tar.gz ### ############################################################################## ############################################################################## * using log directory ‘/Users/biocbuild/bbs-3.17-bioc/meat/GOSim.Rcheck’ * using R version 4.3.1 (2023-06-16) * using platform: x86_64-apple-darwin20 (64-bit) * R was compiled by Apple clang version 14.0.3 (clang-1403.0.22.14.1) GNU Fortran (GCC) 12.2.0 * running under: macOS Monterey 12.6.4 * using session charset: UTF-8 * using option ‘--no-vignettes’ * checking for file ‘GOSim/DESCRIPTION’ ... OK * this is package ‘GOSim’ version ‘1.38.0’ * checking package namespace information ... OK * checking package dependencies ... OK * checking if this is a source package ... OK * checking if there is a namespace ... OK * checking for hidden files and directories ... OK * checking for portable file names ... OK * checking for sufficient/correct file permissions ... OK * checking whether package ‘GOSim’ can be installed ... OK * used C compiler: ‘Apple clang version 14.0.0 (clang-1400.0.29.202)’ * used C++ compiler: ‘Apple clang version 14.0.0 (clang-1400.0.29.202)’ * used SDK: ‘MacOSX11.3.sdk’ * checking installed package size ... OK * checking package directory ... OK * checking ‘build’ directory ... OK * checking DESCRIPTION meta-information ... NOTE Malformed Description field: should contain one or more complete sentences. * checking top-level files ... OK * checking for left-over files ... OK * checking index information ... OK * checking package subdirectories ... OK * checking R files for non-ASCII characters ... OK * checking R files for syntax errors ... OK * checking whether the package can be loaded ... OK * checking whether the package can be loaded with stated dependencies ... OK * checking whether the package can be unloaded cleanly ... OK * checking whether the namespace can be loaded with stated dependencies ... OK * checking whether the namespace can be unloaded cleanly ... OK * checking dependencies in R code ... OK * checking S3 generic/method consistency ... OK * checking replacement functions ... OK * checking foreign function calls ... OK * checking R code for possible problems ... NOTE GOGraph: no visible global function definition for ‘new’ GOenrichment: no visible global function definition for ‘new’ calc.diffusion.kernel: no visible global function definition for ‘as’ evaluateClustering: no visible global function definition for ‘median’ evaluateClustering: no visible global function definition for ‘mad’ evaluateClustering: no visible global function definition for ‘as.dist’ norm: no visible global function definition for ‘dist’ pca: no visible global function definition for ‘prcomp’ selectPrototypes : <anonymous>: no visible global function definition for ‘cutree’ selectPrototypes : <anonymous>: no visible global function definition for ‘hclust’ selectPrototypes : <anonymous>: no visible global function definition for ‘dist’ selectPrototypes: no visible binding for global variable ‘BIC’ setEvidenceLevel: no visible global function definition for ‘is’ Undefined global functions or variables: BIC as as.dist cutree dist hclust is mad median new prcomp Consider adding importFrom("methods", "as", "is", "new") importFrom("stats", "BIC", "as.dist", "cutree", "dist", "hclust", "mad", "median", "prcomp") to your NAMESPACE file (and ensure that your DESCRIPTION Imports field contains 'methods'). * checking Rd files ... NOTE checkRd: (-1) setEvidenceLevel.Rd:39: Escaped LaTeX specials: \$ checkRd: (-1) setEvidenceLevel.Rd:41: Escaped LaTeX specials: \$ \$ checkRd: (-1) setEvidenceLevel.Rd:43: Escaped LaTeX specials: \$ \$ \$ checkRd: (-1) setEvidenceLevel.Rd:46: Escaped LaTeX specials: \$ \$ \$ checkRd: (-1) setEvidenceLevel.Rd:49: Escaped LaTeX specials: \$ \$ \$ checkRd: (-1) setEvidenceLevel.Rd:52: Escaped LaTeX specials: \$ \$ checkRd: (-1) setEvidenceLevel.Rd:54: Escaped LaTeX specials: \$ \$ \$ checkRd: (-1) setEvidenceLevel.Rd:58: Escaped LaTeX specials: \$ \$ \$ checkRd: (-1) setEvidenceLevel.Rd:61: Escaped LaTeX specials: \$ \$ \$ checkRd: (-1) setEvidenceLevel.Rd:64: Escaped LaTeX specials: \$ checkRd: (-1) setEvidenceLevel.Rd:66: Escaped LaTeX specials: \$ \$ checkRd: (-1) setEvidenceLevel.Rd:68: Escaped LaTeX specials: \$ \$ \$ checkRd: (-1) setEvidenceLevel.Rd:71: Escaped LaTeX specials: \$ \$ \$ checkRd: (-1) setEvidenceLevel.Rd:74: Escaped LaTeX specials: \$ \$ \$ checkRd: (-1) setEvidenceLevel.Rd:78: Escaped LaTeX specials: \$ \$ checkRd: (-1) setEvidenceLevel.Rd:80: Escaped LaTeX specials: \$ \$ \$ checkRd: (-1) setEvidenceLevel.Rd:84: Escaped LaTeX specials: \$ \$ \$ checkRd: (-1) setEvidenceLevel.Rd:87: Escaped LaTeX specials: \$ \$ \$ * checking Rd metadata ... OK * checking Rd cross-references ... OK * checking for missing documentation entries ... OK * checking for code/documentation mismatches ... OK * checking Rd \usage sections ... OK * checking Rd contents ... OK * checking for unstated dependencies in examples ... OK * checking contents of ‘data’ directory ... OK * checking data for non-ASCII characters ... OK * checking data for ASCII and uncompressed saves ... OK * checking line endings in C/C++/Fortran sources/headers ... OK * checking line endings in Makefiles ... OK * checking compilation flags in Makevars ... OK * checking for GNU extensions in Makefiles ... OK * checking for portable use of $(BLAS_LIBS) and $(LAPACK_LIBS) ... OK * checking use of PKG_*FLAGS in Makefiles ... OK * checking compiled code ... NOTE Note: information on .o files is not available * checking sizes of PDF files under ‘inst/doc’ ... OK * checking files in ‘vignettes’ ... OK * checking examples ... OK Examples with CPU (user + system) or elapsed time > 5s user system elapsed getGeneSimPrototypes 447.143 26.187 674.908 getMinimumSubsumer 19.473 0.224 26.482 getTermSim 19.189 0.190 24.933 getDisjCommAnc 18.002 0.581 24.527 setEnrichmentFactors 16.252 0.138 21.062 * checking for unstated dependencies in vignettes ... OK * checking package vignettes in ‘inst/doc’ ... OK * checking running R code from vignettes ... SKIPPED * checking re-building of vignette outputs ... SKIPPED * checking PDF version of manual ... OK * DONE Status: 4 NOTEs See ‘/Users/biocbuild/bbs-3.17-bioc/meat/GOSim.Rcheck/00check.log’ for details.
GOSim.Rcheck/00install.out
############################################################################## ############################################################################## ### ### Running command: ### ### /Library/Frameworks/R.framework/Resources/bin/R CMD INSTALL GOSim ### ############################################################################## ############################################################################## * installing to library ‘/Library/Frameworks/R.framework/Versions/4.3-x86_64/Resources/library’ * installing *source* package ‘GOSim’ ... ** using staged installation ** libs using C compiler: ‘Apple clang version 14.0.0 (clang-1400.0.29.202)’ using C++ compiler: ‘Apple clang version 14.0.0 (clang-1400.0.29.202)’ using SDK: ‘MacOSX11.3.sdk’ clang++ -arch x86_64 -std=gnu++17 -I"/Library/Frameworks/R.framework/Resources/include" -DNDEBUG -I'/Library/Frameworks/R.framework/Versions/4.3-x86_64/Resources/library/Rcpp/include' -I/opt/R/x86_64/include `/Library/Frameworks/R.framework/Resources/bin/Rscript -e "require(Rcpp); Rcpp:::CxxFlags()"` -fPIC -falign-functions=64 -Wall -g -O2 -c OAWrapper.cpp -o OAWrapper.o Loading required package: Rcpp clang -arch x86_64 -I"/Library/Frameworks/R.framework/Resources/include" -DNDEBUG -I'/Library/Frameworks/R.framework/Versions/4.3-x86_64/Resources/library/Rcpp/include' -I/opt/R/x86_64/include -fPIC -falign-functions=64 -Wall -g -O2 -c hungarian2.c -o hungarian2.o Loading required package: Rcpp clang++ -arch x86_64 -std=gnu++17 -dynamiclib -Wl,-headerpad_max_install_names -undefined dynamic_lookup -single_module -multiply_defined suppress -L/Library/Frameworks/R.framework/Resources/lib -L/opt/R/x86_64/lib -o GOSim.so OAWrapper.o hungarian2.o -F/Library/Frameworks/R.framework/.. -framework R -Wl,-framework -Wl,CoreFoundation Loading required package: Rcpp installing to /Library/Frameworks/R.framework/Versions/4.3-x86_64/Resources/library/00LOCK-GOSim/00new/GOSim/libs ** R ** data ** inst ** byte-compile and prepare package for lazy loading ** help *** installing help indices ** building package indices ** installing vignettes ** testing if installed package can be loaded from temporary location ** checking absolute paths in shared objects and dynamic libraries ** testing if installed package can be loaded from final location ** testing if installed package keeps a record of temporary installation path * DONE (GOSim)
GOSim.Rcheck/GOSim-Ex.timings
name | user | system | elapsed | |
GOenrichment | 0.001 | 0.001 | 0.001 | |
calcICs | 0.000 | 0.000 | 0.002 | |
evaluateClustering | 0.001 | 0.000 | 0.002 | |
filterGO | 0 | 0 | 0 | |
getAncestors | 0 | 0 | 0 | |
getChildren | 0 | 0 | 0 | |
getDisjCommAnc | 18.002 | 0.581 | 24.527 | |
getGOGraph | 0.000 | 0.001 | 0.001 | |
getGOInfo | 0.001 | 0.000 | 0.000 | |
getGeneFeatures | 0.000 | 0.000 | 0.001 | |
getGeneFeaturesPrototypes | 0.000 | 0.000 | 0.001 | |
getGeneSim | 0.000 | 0.001 | 0.001 | |
getGeneSimPrototypes | 447.143 | 26.187 | 674.908 | |
getMinimumSubsumer | 19.473 | 0.224 | 26.482 | |
getOffsprings | 0.000 | 0.001 | 0.000 | |
getParents | 0.000 | 0.001 | 0.001 | |
getTermSim | 19.189 | 0.190 | 24.933 | |
selectPrototypes | 0 | 0 | 0 | |
setEnrichmentFactors | 16.252 | 0.138 | 21.062 | |
setEvidenceLevel | 0.000 | 0.000 | 0.001 | |
setOntology | 0.001 | 0.000 | 0.001 | |