Back to Multiple platform build/check report for BioC 3.14
ABCDEF[G]HIJKLMNOPQRSTUVWXYZ

This page was generated on 2022-01-21 13:06:25 -0500 (Fri, 21 Jan 2022).

HostnameOSArch (*)R versionInstalled pkgs
nebbiolo2Linux (Ubuntu 20.04.4 LTS)x86_644.1.2 (2021-11-01) -- "Bird Hippie" 4329
tokay2Windows Server 2012 R2 Standardx644.1.2 (2021-11-01) -- "Bird Hippie" 4079
machv2macOS 10.14.6 Mojavex86_644.1.2 (2021-11-01) -- "Bird Hippie" 4140
Click on any hostname to see more info about the system (e.g. compilers)      (*) as reported by 'uname -p', except on Windows and Mac OS X

BUILD BIN results for GNET2 on tokay2


To the developers/maintainers of the GNET2 package:
- Please allow up to 24 hours (and sometimes 48 hours) for your latest push to git@git.bioconductor.org:packages/GNET2.git to
reflect on this report. See How and When does the builder pull? When will my changes propagate? here for more information.
- Make sure to use the following settings in order to reproduce any error or warning you see on this page.

raw results

Package 797/2083HostnameOS / ArchINSTALLBUILDCHECKBUILD BIN
GNET2 1.10.0  (landing page)
Chen Chen
Snapshot Date: 2022-01-20 01:55:04 -0500 (Thu, 20 Jan 2022)
git_url: https://git.bioconductor.org/packages/GNET2
git_branch: RELEASE_3_14
git_last_commit: 905f61c
git_last_commit_date: 2021-10-26 12:50:31 -0500 (Tue, 26 Oct 2021)
nebbiolo2Linux (Ubuntu 20.04.4 LTS) / x86_64  OK    OK    OK  UNNEEDED, same version is already published
tokay2Windows Server 2012 R2 Standard / x64  OK    OK    OK    OK  UNNEEDED, same version is already published
machv2macOS 10.14.6 Mojave / x86_64  OK    OK    OK    OK  UNNEEDED, same version is already published

Summary

Package: GNET2
Version: 1.10.0
Command: rm -rf GNET2.buildbin-libdir && mkdir GNET2.buildbin-libdir && C:\Users\biocbuild\bbs-3.14-bioc\R\bin\R.exe CMD INSTALL --merge-multiarch --build --library=GNET2.buildbin-libdir GNET2_1.10.0.tar.gz
StartedAt: 2022-01-21 06:18:14 -0500 (Fri, 21 Jan 2022)
EndedAt: 2022-01-21 06:19:19 -0500 (Fri, 21 Jan 2022)
EllapsedTime: 64.5 seconds
RetCode: 0
Status:   OK  
PackageFile: GNET2_1.10.0.zip
PackageFileSize: 1.436 MiB

Command output

##############################################################################
##############################################################################
###
### Running command:
###
###   rm -rf GNET2.buildbin-libdir && mkdir GNET2.buildbin-libdir && C:\Users\biocbuild\bbs-3.14-bioc\R\bin\R.exe CMD INSTALL --merge-multiarch --build --library=GNET2.buildbin-libdir GNET2_1.10.0.tar.gz
###
##############################################################################
##############################################################################



install for i386

* installing *source* package 'GNET2' ...
** using staged installation
** libs
"C:/rtools40/mingw32/bin/"g++ -std=gnu++11  -I"C:/Users/BIOCBU~1/BBS-3~1.14-/R/include" -DNDEBUG  -I'C:/Users/biocbuild/bbs-3.14-bioc/R/library/Rcpp/include'   -I"C:/extsoft/include"     -O2 -Wall  -mfpmath=sse -msse2 -mstackrealign  -c RcppExports.cpp -o RcppExports.o
"C:/rtools40/mingw32/bin/"g++ -std=gnu++11  -I"C:/Users/BIOCBU~1/BBS-3~1.14-/R/include" -DNDEBUG  -I'C:/Users/biocbuild/bbs-3.14-bioc/R/library/Rcpp/include'   -I"C:/extsoft/include"     -O2 -Wall  -mfpmath=sse -msse2 -mstackrealign  -c gnet_rcpp.cpp -o gnet_rcpp.o
C:/rtools40/mingw32/bin/g++ -std=gnu++11 -shared -s -static-libgcc -o GNET2.dll tmp.def RcppExports.o gnet_rcpp.o -LC:/extsoft/lib/i386 -LC:/extsoft/lib -LC:/Users/BIOCBU~1/BBS-3~1.14-/R/bin/i386 -lR
installing to C:/Users/biocbuild/bbs-3.14-bioc/meat/GNET2.buildbin-libdir/00LOCK-GNET2/00new/GNET2/libs/i386
** R
** inst
** byte-compile and prepare package for lazy loading
** help
*** installing help indices
  converting help for package 'GNET2'
    finding HTML links ... done
    build_module                            html  
    build_moduleR                           html  
    build_moduleR_heuristic                 html  
    build_split_table                       html  
    calc_likelihood_score                   html  
    extract_edges                           html  
    get_correlation_list                    html  
    gnet                                    html  
    kneepointDetection                      html  
    plot_gene_group                         html  
    plot_group_correlation                  html  
    plot_tree                               html  
    save_gnet                               html  
    similarity_score                        html  
** building package indices
** installing vignettes
** testing if installed package can be loaded from temporary location
** testing if installed package can be loaded from final location
** testing if installed package keeps a record of temporary installation path

install for x64

* installing *source* package 'GNET2' ...
** libs
"C:/rtools40/mingw64/bin/"g++ -std=gnu++11  -I"C:/Users/BIOCBU~1/BBS-3~1.14-/R/include" -DNDEBUG  -I'C:/Users/biocbuild/bbs-3.14-bioc/R/library/Rcpp/include'   -I"C:/extsoft/include"     -O2 -Wall  -mfpmath=sse -msse2 -mstackrealign  -c RcppExports.cpp -o RcppExports.o
"C:/rtools40/mingw64/bin/"g++ -std=gnu++11  -I"C:/Users/BIOCBU~1/BBS-3~1.14-/R/include" -DNDEBUG  -I'C:/Users/biocbuild/bbs-3.14-bioc/R/library/Rcpp/include'   -I"C:/extsoft/include"     -O2 -Wall  -mfpmath=sse -msse2 -mstackrealign  -c gnet_rcpp.cpp -o gnet_rcpp.o
C:/rtools40/mingw64/bin/g++ -std=gnu++11 -shared -s -static-libgcc -o GNET2.dll tmp.def RcppExports.o gnet_rcpp.o -LC:/extsoft/lib/x64 -LC:/extsoft/lib -LC:/Users/BIOCBU~1/BBS-3~1.14-/R/bin/x64 -lR
installing to C:/Users/biocbuild/bbs-3.14-bioc/meat/GNET2.buildbin-libdir/GNET2/libs/x64
** testing if installed package can be loaded
* MD5 sums
packaged installation of 'GNET2' as GNET2_1.10.0.zip
* DONE (GNET2)