Index of /checkResults/release/bioc-LATEST/GNET2/raw-results/palomino4

[ICO]NameLast modifiedSizeDescription

[DIR]Parent Directory  -  
[TXT]buildbin-out.txt21-Mar-2023 00:05 1.9K 
[   ]buildbin-summary.dcf21-Mar-2023 00:05 503  
[TXT]buildsrc-out.txt21-Mar-2023 00:05 898  
[   ]buildsrc-summary.dcf21-Mar-2023 00:05 444  
[TXT]checksrc-out.txt21-Mar-2023 00:05 3.6K 
[   ]checksrc-summary.dcf21-Mar-2023 00:05 439  
[TXT]install-out.txt21-Mar-2023 00:05 1.8K 
[   ]install-summary.dcf21-Mar-2023 00:05 264