Index of /checkResults/release/bioc-LATEST/GNET2/raw-results/merida1

[ICO]NameLast modifiedSizeDescription

[DIR]Parent Directory  -  
[TXT]buildbin-out.txt25-Jun-2022 01:07 2.8K 
[   ]buildbin-summary.dcf25-Jun-2022 01:07 518  
[TXT]buildsrc-out.txt25-Jun-2022 01:07 878  
[   ]buildsrc-summary.dcf25-Jun-2022 01:07 421  
[TXT]checksrc-out.txt25-Jun-2022 01:07 3.3K 
[   ]checksrc-summary.dcf25-Jun-2022 01:07 436  
[TXT]install-out.txt25-Jun-2022 01:07 2.0K 
[   ]install-summary.dcf25-Jun-2022 01:07 265