Back to Multiple platform build/check report for BioC 3.16
ABCDEF[G]HIJKLMNOPQRSTUVWXYZ

This page was generated on 2023-02-01 11:08:34 -0500 (Wed, 01 Feb 2023).

HostnameOSArch (*)R versionInstalled pkgs
nebbiolo2Linux (Ubuntu 20.04.5 LTS)x86_644.2.2 (2022-10-31) -- "Innocent and Trusting" 4511
palomino4Windows Server 2022 Datacenterx644.2.2 (2022-10-31 ucrt) -- "Innocent and Trusting" 4289
lconwaymacOS 12.5.1 Montereyx86_644.2.2 (2022-10-31) -- "Innocent and Trusting" 4318
Click on any hostname to see more info about the system (e.g. compilers)      (*) as reported by 'uname -p', except on Windows and Mac OS X

BUILD BIN results for GNET2 on lconway


To the developers/maintainers of the GNET2 package:
- Please allow up to 24 hours (and sometimes 48 hours) for your latest push to git@git.bioconductor.org:packages/GNET2.git to
reflect on this report. See How and When does the builder pull? When will my changes propagate? for more information.
- Make sure to use the following settings in order to reproduce any error or warning you see on this page.

raw results

Package 834/2183HostnameOS / ArchINSTALLBUILDCHECKBUILD BIN
GNET2 1.14.0  (landing page)
Chen Chen
Snapshot Date: 2023-01-31 14:00:04 -0500 (Tue, 31 Jan 2023)
git_url: https://git.bioconductor.org/packages/GNET2
git_branch: RELEASE_3_16
git_last_commit: 6fe8543
git_last_commit_date: 2022-11-01 11:19:32 -0500 (Tue, 01 Nov 2022)
nebbiolo2Linux (Ubuntu 20.04.5 LTS) / x86_64  OK    OK    OK  UNNEEDED, same version is already published
palomino4Windows Server 2022 Datacenter / x64  OK    OK    OK    OK  UNNEEDED, same version is already published
lconwaymacOS 12.5.1 Monterey / x86_64  OK    OK    OK    OK  UNNEEDED, same version is already published

Summary

Package: GNET2
Version: 1.14.0
Command: rm -rf GNET2.buildbin-libdir && mkdir GNET2.buildbin-libdir && /Users/biocbuild/BBS/utils/build-universal.sh GNET2_1.14.0.tar.gz /Library/Frameworks/R.framework/Resources/bin/R GNET2.buildbin-libdir
StartedAt: 2023-02-01 00:07:32 -0500 (Wed, 01 Feb 2023)
EndedAt: 2023-02-01 00:08:17 -0500 (Wed, 01 Feb 2023)
EllapsedTime: 44.5 seconds
RetCode: 0
Status:   OK  
PackageFile: GNET2_1.14.0.tgz
PackageFileSize: 833.9 KiB

Command output

##############################################################################
##############################################################################
###
### Running command:
###
###   rm -rf GNET2.buildbin-libdir && mkdir GNET2.buildbin-libdir && /Users/biocbuild/BBS/utils/build-universal.sh GNET2_1.14.0.tar.gz /Library/Frameworks/R.framework/Resources/bin/R GNET2.buildbin-libdir
###
##############################################################################
##############################################################################


>>>>>>> 
>>>>>>> INSTALLATION WITH 'R CMD INSTALL --preclean --no-multiarch --library=GNET2.buildbin-libdir GNET2_1.14.0.tar.gz'
>>>>>>> 

* installing *source* package ‘GNET2’ ...
** using staged installation
** libs
clang++ -mmacosx-version-min=10.13 -std=gnu++14 -I"/Library/Frameworks/R.framework/Resources/include" -DNDEBUG  -I'/Library/Frameworks/R.framework/Versions/4.2/Resources/library/Rcpp/include' -I/usr/local/include   -fPIC  -Wall -g -O2  -c RcppExports.cpp -o RcppExports.o
clang++ -mmacosx-version-min=10.13 -std=gnu++14 -I"/Library/Frameworks/R.framework/Resources/include" -DNDEBUG  -I'/Library/Frameworks/R.framework/Versions/4.2/Resources/library/Rcpp/include' -I/usr/local/include   -fPIC  -Wall -g -O2  -c gnet_rcpp.cpp -o gnet_rcpp.o
clang++ -mmacosx-version-min=10.13 -std=gnu++14 -dynamiclib -Wl,-headerpad_max_install_names -undefined dynamic_lookup -single_module -multiply_defined suppress -L/Library/Frameworks/R.framework/Resources/lib -L/usr/local/lib -o GNET2.so RcppExports.o gnet_rcpp.o -F/Library/Frameworks/R.framework/.. -framework R -Wl,-framework -Wl,CoreFoundation
installing to /Users/biocbuild/bbs-3.16-bioc/meat/GNET2.buildbin-libdir/00LOCK-GNET2/00new/GNET2/libs
** R
** inst
** byte-compile and prepare package for lazy loading
** help
*** installing help indices
** building package indices
** installing vignettes
** testing if installed package can be loaded from temporary location
** checking absolute paths in shared objects and dynamic libraries
** testing if installed package can be loaded from final location
** testing if installed package keeps a record of temporary installation path
* DONE (GNET2)


>>>>>>> 
>>>>>>> FIXING LINKS FOR GNET2.buildbin-libdir/GNET2/libs/GNET2.so
>>>>>>> 

install_name_tool -change "/usr/local/lib/libgcc_s.1.dylib" "/Library/Frameworks/R.framework/Versions/4.2/Resources/lib/libgcc_s.1.dylib" "GNET2.buildbin-libdir/GNET2/libs/GNET2.so"
install_name_tool -change "/usr/local/lib/libgfortran.5.dylib" "/Library/Frameworks/R.framework/Versions/4.2/Resources/lib/libgfortran.5.dylib" "GNET2.buildbin-libdir/GNET2/libs/GNET2.so"
install_name_tool -change "/usr/local/lib/libquadmath.0.dylib" "/Library/Frameworks/R.framework/Versions/4.2/Resources/lib/libquadmath.0.dylib" "GNET2.buildbin-libdir/GNET2/libs/GNET2.so"