Name | Last modified | Size | Description | |
---|---|---|---|---|
Parent Directory | - | |||
buildbin-out.txt | 31-May-2024 00:35 | 7.3K | ||
checksrc-out.txt | 31-May-2024 00:35 | 7.8K | ||
buildbin-summary.dcf | 31-May-2024 00:35 | 512 | ||
checksrc-summary.dcf | 31-May-2024 00:35 | 437 | ||
buildsrc-summary.dcf | 31-May-2024 00:35 | 418 | ||
buildsrc-out.txt | 31-May-2024 00:35 | 945 | ||
install-summary.dcf | 31-May-2024 00:35 | 263 | ||
install-out.txt | 31-May-2024 00:35 | 5.4K | ||