Back to Multiple platform build/check report for BioC 3.13
ABCDEF[G]HIJKLMNOPQRSTUVWXYZ

This page was generated on 2021-10-13 15:05:53 -0400 (Wed, 13 Oct 2021).

BUILD BIN results for GLAD on machv2

To the developers/maintainers of the GLAD package:
- Please allow up to 24 hours (and sometimes 48 hours) for your latest push to git@git.bioconductor.org:packages/GLAD.git to
reflect on this report. See How and When does the builder pull? When will my changes propagate? here for more information.
- Make sure to use the following settings in order to reproduce any error or warning you see on this page.

raw results

Package 772/2041HostnameOS / ArchINSTALLBUILDCHECKBUILD BIN
GLAD 2.56.0  (landing page)
Philippe Hupe
Snapshot Date: 2021-10-12 04:50:13 -0400 (Tue, 12 Oct 2021)
git_url: https://git.bioconductor.org/packages/GLAD
git_branch: RELEASE_3_13
git_last_commit: 10516c2
git_last_commit_date: 2021-05-19 11:34:50 -0400 (Wed, 19 May 2021)
nebbiolo1Linux (Ubuntu 20.04.2 LTS) / x86_64  OK    OK    WARNINGS  UNNEEDED, same version is already published
tokay2Windows Server 2012 R2 Standard / x64  OK    OK    WARNINGS    OK  UNNEEDED, same version is already published
machv2macOS 10.14.6 Mojave / x86_64  OK    OK    WARNINGS    OK  UNNEEDED, same version is already published

Summary

Package: GLAD
Version: 2.56.0
Command: rm -rf GLAD.buildbin-libdir && mkdir GLAD.buildbin-libdir && /Users/biocbuild/BBS/utils/build-universal.sh GLAD_2.56.0.tar.gz /Library/Frameworks/R.framework/Versions/Current/Resources/bin/R GLAD.buildbin-libdir
StartedAt: 2021-10-13 02:23:37 -0400 (Wed, 13 Oct 2021)
EndedAt: 2021-10-13 02:24:46 -0400 (Wed, 13 Oct 2021)
EllapsedTime: 69.3 seconds
RetCode: 0
Status:   OK  
PackageFile: GLAD_2.56.0.tgz
PackageFileSize: 1.349 MiB

Command output

##############################################################################
##############################################################################
###
### Running command:
###
###   rm -rf GLAD.buildbin-libdir && mkdir GLAD.buildbin-libdir && /Users/biocbuild/BBS/utils/build-universal.sh GLAD_2.56.0.tar.gz /Library/Frameworks/R.framework/Versions/Current/Resources/bin/R GLAD.buildbin-libdir
###
##############################################################################
##############################################################################


>>>>>>> 
>>>>>>> INSTALLATION WITH 'R CMD INSTALL --preclean --no-multiarch --library=GLAD.buildbin-libdir GLAD_2.56.0.tar.gz'
>>>>>>> 

* installing *source* package ‘GLAD’ ...
** using staged installation
checking for pkg-config... /usr/local/bin/pkg-config
checking pkg-config is at least version 0.9.0... yes
checking for GSL... yes
GSL has been found on the operating system
operating system: Darwin
configure: creating ./config.status
config.status: creating src/Makevars

src/Makevars file

PKG_LIBS = -L/usr/local/lib -lgsl -lgslcblas -lm
PKG_CPPFLAGS = -DIS_MAC_OS

** libs
clang++ -mmacosx-version-min=10.13 -std=gnu++14 -I"/Library/Frameworks/R.framework/Resources/include" -DNDEBUG -DIS_MAC_OS  -I/usr/local/include   -fPIC  -Wall -g -O2  -c BkpInfo.cpp -o BkpInfo.o
clang++ -mmacosx-version-min=10.13 -std=gnu++14 -I"/Library/Frameworks/R.framework/Resources/include" -DNDEBUG -DIS_MAC_OS  -I/usr/local/include   -fPIC  -Wall -g -O2  -c HaarSeg.cpp -o HaarSeg.o
clang++ -mmacosx-version-min=10.13 -std=gnu++14 -I"/Library/Frameworks/R.framework/Resources/include" -DNDEBUG -DIS_MAC_OS  -I/usr/local/include   -fPIC  -Wall -g -O2  -c MoveBkp.cpp -o MoveBkp.o
clang++ -mmacosx-version-min=10.13 -std=gnu++14 -I"/Library/Frameworks/R.framework/Resources/include" -DNDEBUG -DIS_MAC_OS  -I/usr/local/include   -fPIC  -Wall -g -O2  -c OutliersGNL.cpp -o OutliersGNL.o
clang++ -mmacosx-version-min=10.13 -std=gnu++14 -I"/Library/Frameworks/R.framework/Resources/include" -DNDEBUG -DIS_MAC_OS  -I/usr/local/include   -fPIC  -Wall -g -O2  -c chrBreakpoints.cpp -o chrBreakpoints.o
clang++ -mmacosx-version-min=10.13 -std=gnu++14 -I"/Library/Frameworks/R.framework/Resources/include" -DNDEBUG -DIS_MAC_OS  -I/usr/local/include   -fPIC  -Wall -g -O2  -c cutree.cpp -o cutree.o
clang++ -mmacosx-version-min=10.13 -std=gnu++14 -I"/Library/Frameworks/R.framework/Resources/include" -DNDEBUG -DIS_MAC_OS  -I/usr/local/include   -fPIC  -Wall -g -O2  -c daglad.cpp -o daglad.o
clang++ -mmacosx-version-min=10.13 -std=gnu++14 -I"/Library/Frameworks/R.framework/Resources/include" -DNDEBUG -DIS_MAC_OS  -I/usr/local/include   -fPIC  -Wall -g -O2  -c distance.cpp -o distance.o
clang++ -mmacosx-version-min=10.13 -std=gnu++14 -I"/Library/Frameworks/R.framework/Resources/include" -DNDEBUG -DIS_MAC_OS  -I/usr/local/include   -fPIC  -Wall -g -O2  -c filterBkp.cpp -o filterBkp.o
clang++ -mmacosx-version-min=10.13 -std=gnu++14 -I"/Library/Frameworks/R.framework/Resources/include" -DNDEBUG -DIS_MAC_OS  -I/usr/local/include   -fPIC  -Wall -g -O2  -c findCluster.cpp -o findCluster.o
clang++ -mmacosx-version-min=10.13 -std=gnu++14 -I"/Library/Frameworks/R.framework/Resources/include" -DNDEBUG -DIS_MAC_OS  -I/usr/local/include   -fPIC  -Wall -g -O2  -c glad-utils.cpp -o glad-utils.o
glad-utils.cpp:862:27: warning: unused variable 'it_new_end_NormalCluster' [-Wunused-variable]
    vector<int>::iterator it_new_end_NormalCluster;
                          ^
1 warning generated.
clang++ -mmacosx-version-min=10.13 -std=gnu++14 -I"/Library/Frameworks/R.framework/Resources/include" -DNDEBUG -DIS_MAC_OS  -I/usr/local/include   -fPIC  -Wall -g -O2  -c hclust.cpp -o hclust.o
clang -mmacosx-version-min=10.13 -I"/Library/Frameworks/R.framework/Resources/include" -DNDEBUG -DIS_MAC_OS  -I/usr/local/include   -fPIC  -Wall -g -O2  -c laws.c -o laws.o
clang++ -mmacosx-version-min=10.13 -std=gnu++14 -I"/Library/Frameworks/R.framework/Resources/include" -DNDEBUG -DIS_MAC_OS  -I/usr/local/include   -fPIC  -Wall -g -O2  -c loopRemove.cpp -o loopRemove.o
clang++ -mmacosx-version-min=10.13 -std=gnu++14 -dynamiclib -Wl,-headerpad_max_install_names -undefined dynamic_lookup -single_module -multiply_defined suppress -L/Library/Frameworks/R.framework/Resources/lib -L/usr/local/lib -o GLAD.so BkpInfo.o HaarSeg.o MoveBkp.o OutliersGNL.o chrBreakpoints.o cutree.o daglad.o distance.o filterBkp.o findCluster.o glad-utils.o hclust.o laws.o loopRemove.o -L/usr/local/lib -lgsl -lgslcblas -lm -F/Library/Frameworks/R.framework/.. -framework R -Wl,-framework -Wl,CoreFoundation
installing to /Users/biocbuild/bbs-3.13-bioc/meat/GLAD.buildbin-libdir/00LOCK-GLAD/00new/GLAD/libs
** R
** data
** demo
** inst
** byte-compile and prepare package for lazy loading
** help
*** installing help indices
** building package indices
** installing vignettes
** testing if installed package can be loaded from temporary location
** checking absolute paths in shared objects and dynamic libraries
** testing if installed package can be loaded from final location
** testing if installed package keeps a record of temporary installation path
* DONE (GLAD)


>>>>>>> 
>>>>>>> FIXING LINKS FOR GLAD.buildbin-libdir/GLAD/libs/GLAD.so
>>>>>>> 

install_name_tool -change "/usr/local/lib/libgcc_s.1.dylib" "/Library/Frameworks/R.framework/Versions/4.1/Resources/lib/libgcc_s.1.dylib" "GLAD.buildbin-libdir/GLAD/libs/GLAD.so"
install_name_tool -change "/usr/local/lib/libgfortran.5.dylib" "/Library/Frameworks/R.framework/Versions/4.1/Resources/lib/libgfortran.5.dylib" "GLAD.buildbin-libdir/GLAD/libs/GLAD.so"
install_name_tool -change "/usr/local/lib/libquadmath.0.dylib" "/Library/Frameworks/R.framework/Versions/4.1/Resources/lib/libquadmath.0.dylib" "GLAD.buildbin-libdir/GLAD/libs/GLAD.so"