Back to Multiple platform build/check report for BioC 3.13
ABCDEF[G]HIJKLMNOPQRSTUVWXYZ

This page was generated on 2021-09-27 15:05:36 -0400 (Mon, 27 Sep 2021).

All results for package GLAD

To the developers/maintainers of the GLAD package:
- Please allow up to 24 hours (and sometimes 48 hours) for your latest push to git@git.bioconductor.org:packages/GLAD.git to
reflect on this report. See How and When does the builder pull? When will my changes propagate? here for more information.
- Make sure to use the following settings in order to reproduce any error or warning you see on this page.

raw results

Package 772/2041HostnameOS / ArchINSTALLBUILDCHECKBUILD BIN
GLAD 2.56.0  (landing page)
Philippe Hupe
Snapshot Date: 2021-09-26 04:50:10 -0400 (Sun, 26 Sep 2021)
git_url: https://git.bioconductor.org/packages/GLAD
git_branch: RELEASE_3_13
git_last_commit: 10516c2
git_last_commit_date: 2021-05-19 11:34:50 -0400 (Wed, 19 May 2021)
nebbiolo1Linux (Ubuntu 20.04.2 LTS) / x86_64  OK    OK    WARNINGS  UNNEEDED, same version is already published
tokay2Windows Server 2012 R2 Standard / x64  OK    OK    WARNINGS    OK  UNNEEDED, same version is already published
machv2macOS 10.14.6 Mojave / x86_64  OK    OK    WARNINGS    OK  UNNEEDED, same version is already published

Results for Bioconductor software packages that depend directly on package GLAD

QUICK STATSOS / ArchINSTALLBUILDCHECKBUILD BIN
nebbiolo1Linux (Ubuntu 20.04.2 LTS) / x86_64
005
005
0014
tokay2Windows Server 2012 R2 Standard / x64
005
005
0014
005
machv2macOS 10.14.6 Mojave / x86_64
005
005
0005
005
Package 1/5HostnameOS / ArchINSTALLBUILDCHECKBUILD BIN
ADaCGH2 2.32.0  (landing page)
Ramon Diaz-Uriarte
git_last_commit: 43bdeb8
git_last_commit_date: 2021-05-19 11:46:43 -0400
nebbiolo1Linux (Ubuntu 20.04.2 LTS) / x86_64  OK    OK    OK  UNNEEDED, same version is already published
tokay2Windows Server 2012 R2 Standard / x64  OK    OK    OK    OK  UNNEEDED, same version is already published
machv2macOS 10.14.6 Mojave / x86_64  OK    OK    OK    OK  UNNEEDED, same version is already published
Package 2/5HostnameOS / ArchINSTALLBUILDCHECKBUILD BIN
ITALICS 2.52.0  (landing page)
Guillem Rigaill
git_last_commit: bb3b357
git_last_commit_date: 2021-05-19 11:41:23 -0400
nebbiolo1Linux (Ubuntu 20.04.2 LTS) / x86_64  OK    OK    OK  UNNEEDED, same version is already published
tokay2Windows Server 2012 R2 Standard / x64  OK    OK    OK    OK  UNNEEDED, same version is already published
machv2macOS 10.14.6 Mojave / x86_64  OK    OK    OK    OK  UNNEEDED, same version is already published
Package 3/5HostnameOS / ArchINSTALLBUILDCHECKBUILD BIN
MANOR 1.64.0  (landing page)
Pierre Neuvial
git_last_commit: 6c2e394
git_last_commit_date: 2021-05-19 11:36:36 -0400
nebbiolo1Linux (Ubuntu 20.04.2 LTS) / x86_64  OK    OK    WARNINGS  UNNEEDED, same version is already published
tokay2Windows Server 2012 R2 Standard / x64  OK    OK    WARNINGS    OK  UNNEEDED, same version is already published
machv2macOS 10.14.6 Mojave / x86_64  OK    OK    OK    OK  UNNEEDED, same version is already published
Package 4/5HostnameOS / ArchINSTALLBUILDCHECKBUILD BIN
seqCNA 1.38.0  (landing page)
David Mosen-Ansorena
git_last_commit: 9827ffc
git_last_commit_date: 2021-05-19 11:59:36 -0400
nebbiolo1Linux (Ubuntu 20.04.2 LTS) / x86_64  OK    OK    OK  UNNEEDED, same version is already published
tokay2Windows Server 2012 R2 Standard / x64  OK    OK    OK    OK  UNNEEDED, same version is already published
machv2macOS 10.14.6 Mojave / x86_64  OK    OK    OK    OK  UNNEEDED, same version is already published
Package 5/5HostnameOS / ArchINSTALLBUILDCHECKBUILD BIN
snapCGH 1.62.0  (landing page)
John Marioni
git_last_commit: 17b1083
git_last_commit_date: 2021-05-19 11:36:52 -0400
nebbiolo1Linux (Ubuntu 20.04.2 LTS) / x86_64  OK    OK    OK  UNNEEDED, same version is already published
tokay2Windows Server 2012 R2 Standard / x64  OK    OK    OK    OK  UNNEEDED, same version is already published
machv2macOS 10.14.6 Mojave / x86_64  OK    OK    OK    OK  UNNEEDED, same version is already published