Back to Multiple platform build/check report for BioC 3.16:   simplified   long
ABCDEF[G]HIJKLMNOPQRSTUVWXYZ

This page was generated on 2023-02-03 11:04:57 -0500 (Fri, 03 Feb 2023).

HostnameOSArch (*)R versionInstalled pkgs
nebbiolo2Linux (Ubuntu 20.04.5 LTS)x86_644.2.2 (2022-10-31) -- "Innocent and Trusting" 4511
palomino4Windows Server 2022 Datacenterx644.2.2 (2022-10-31 ucrt) -- "Innocent and Trusting" 4289
lconwaymacOS 12.5.1 Montereyx86_644.2.2 (2022-10-31) -- "Innocent and Trusting" 4318
Click on any hostname to see more info about the system (e.g. compilers)      (*) as reported by 'uname -p', except on Windows and Mac OS X

All results for package GEOquery


To the developers/maintainers of the GEOquery package:
- Please allow up to 24 hours (and sometimes 48 hours) for your latest push to git@git.bioconductor.org:packages/GEOquery.git to
reflect on this report. See How and When does the builder pull? When will my changes propagate? for more information.
- Make sure to use the following settings in order to reproduce any error or warning you see on this page.

raw results

Package 803/2183HostnameOS / ArchINSTALLBUILDCHECKBUILD BIN
GEOquery 2.66.0  (landing page)
Sean Davis
Snapshot Date: 2023-02-02 14:00:04 -0500 (Thu, 02 Feb 2023)
git_url: https://git.bioconductor.org/packages/GEOquery
git_branch: RELEASE_3_16
git_last_commit: 00a954e
git_last_commit_date: 2022-11-01 10:40:26 -0500 (Tue, 01 Nov 2022)
nebbiolo2Linux (Ubuntu 20.04.5 LTS) / x86_64  OK    OK    OK  UNNEEDED, same version is already published
palomino4Windows Server 2022 Datacenter / x64  OK    OK    OK    OK  UNNEEDED, same version is already published
lconwaymacOS 12.5.1 Monterey / x86_64  OK    OK    OK    OK  UNNEEDED, same version is already published

Results for Bioconductor software packages that depend directly on package GEOquery

QUICK STATSOS / ArchINSTALLBUILDCHECKBUILD BIN
nebbiolo2Linux (Ubuntu 20.04.5 LTS) / x86_64
0118
0415
02310
palomino4Windows Server 2022 Datacenter / x64
0117
0414
0239
0014
lconwaymacOS 12.5.1 Monterey / x86_64
0118
0415
02310
0015
Package 1/19HostnameOS / ArchINSTALLBUILDCHECKBUILD BIN
bigmelon 1.24.0  (landing page)
Tyler J. Gorrie-Stone
git_last_commit: 77478bf
git_last_commit_date: 2022-11-01 11:14:27 -0500
nebbiolo2Linux (Ubuntu 20.04.5 LTS) / x86_64  OK    OK    WARNINGS  UNNEEDED, same version is already published
palomino4Windows Server 2022 Datacenter / x64  OK    OK    WARNINGS    OK  UNNEEDED, same version is already published
lconwaymacOS 12.5.1 Monterey / x86_64  OK    OK    WARNINGS    OK  UNNEEDED, same version is already published
Package 2/19HostnameOS / ArchINSTALLBUILDCHECKBUILD BIN
ChIPXpress 1.42.0  (landing page)
George Wu
git_last_commit: 845364a
git_last_commit_date: 2022-11-01 11:07:14 -0500
nebbiolo2Linux (Ubuntu 20.04.5 LTS) / x86_64  OK    OK    OK  UNNEEDED, same version is already published
palomino4Windows Server 2022 Datacenter / x64... NOT SUPPORTED ...
lconwaymacOS 12.5.1 Monterey / x86_64  OK    OK    OK    OK  UNNEEDED, same version is already published
Package 3/19HostnameOS / ArchINSTALLBUILDCHECKBUILD BIN
coexnet 1.20.0  (landing page)
Juan David Henao
git_last_commit: 32b2129
git_last_commit_date: 2022-11-01 11:15:51 -0500
nebbiolo2Linux (Ubuntu 20.04.5 LTS) / x86_64  OK    OK    ERROR  
palomino4Windows Server 2022 Datacenter / x64  OK    OK    ERROR    OK  
lconwaymacOS 12.5.1 Monterey / x86_64  OK    OK    ERROR    OK  
Package 4/19HostnameOS / ArchINSTALLBUILDCHECKBUILD BIN
conclus 1.6.0  (landing page)
Ilyess Rachedi
git_last_commit: 08522fb
git_last_commit_date: 2022-11-01 11:24:34 -0500
nebbiolo2Linux (Ubuntu 20.04.5 LTS) / x86_64  OK    ERROR  skipped
palomino4Windows Server 2022 Datacenter / x64  OK    ERROR  skippedskipped
lconwaymacOS 12.5.1 Monterey / x86_64  OK    ERROR  skippedskipped
Package 5/19HostnameOS / ArchINSTALLBUILDCHECKBUILD BIN
crossmeta 1.24.0  (landing page)
Alex Pickering
git_last_commit: 6c5c2d8
git_last_commit_date: 2022-11-01 11:13:53 -0500
nebbiolo2Linux (Ubuntu 20.04.5 LTS) / x86_64  OK    OK    OK  UNNEEDED, same version is already published
palomino4Windows Server 2022 Datacenter / x64  OK    OK    OK    OK  UNNEEDED, same version is already published
lconwaymacOS 12.5.1 Monterey / x86_64  OK    OK    OK    OK  UNNEEDED, same version is already published
Package 6/19HostnameOS / ArchINSTALLBUILDCHECKBUILD BIN
DExMA 1.6.0  (landing page)
Juan Antonio Villatoro-GarcĂ­a
git_last_commit: e54fbab
git_last_commit_date: 2022-11-01 11:24:52 -0500
nebbiolo2Linux (Ubuntu 20.04.5 LTS) / x86_64  OK    OK    OK  UNNEEDED, same version is already published
palomino4Windows Server 2022 Datacenter / x64  OK    OK    OK    OK  UNNEEDED, same version is already published
lconwaymacOS 12.5.1 Monterey / x86_64  OK    OK    OK    OK  UNNEEDED, same version is already published
Package 7/19HostnameOS / ArchINSTALLBUILDCHECKBUILD BIN
DrugVsDisease 2.40.0  (landing page)
j. Saez-Rodriguez
git_last_commit: 0bbcf6a
git_last_commit_date: 2022-11-01 11:07:48 -0500
nebbiolo2Linux (Ubuntu 20.04.5 LTS) / x86_64  OK    OK    OK  UNNEEDED, same version is already published
palomino4Windows Server 2022 Datacenter / x64  OK    OK    OK    OK  UNNEEDED, same version is already published
lconwaymacOS 12.5.1 Monterey / x86_64  OK    OK    OK    OK  UNNEEDED, same version is already published
Package 8/19HostnameOS / ArchINSTALLBUILDCHECKBUILD BIN
EGAD 1.26.0  (landing page)
Sara Ballouz
git_last_commit: f4695cc
git_last_commit_date: 2022-11-01 11:13:42 -0500
nebbiolo2Linux (Ubuntu 20.04.5 LTS) / x86_64  OK    OK    WARNINGS  UNNEEDED, same version is already published
palomino4Windows Server 2022 Datacenter / x64  OK    OK    WARNINGS    OK  UNNEEDED, same version is already published
lconwaymacOS 12.5.1 Monterey / x86_64  OK    OK    WARNINGS    OK  UNNEEDED, same version is already published
Package 9/19HostnameOS / ArchINSTALLBUILDCHECKBUILD BIN
EpiMix 1.0.0  (landing page)
Yuanning Zheng
git_last_commit: 4842331
git_last_commit_date: 2022-11-01 11:27:17 -0500
nebbiolo2Linux (Ubuntu 20.04.5 LTS) / x86_64  OK    ERROR  skipped
palomino4Windows Server 2022 Datacenter / x64  OK    ERROR  skippedskipped
lconwaymacOS 12.5.1 Monterey / x86_64  OK    ERROR  skippedskipped
Package 10/19HostnameOS / ArchINSTALLBUILDCHECKBUILD BIN
GAPGOM 1.14.0  (landing page)
Rezvan Ehsani
git_last_commit: 9a6404e
git_last_commit_date: 2022-11-01 11:19:11 -0500
nebbiolo2Linux (Ubuntu 20.04.5 LTS) / x86_64  OK    ERROR  skipped
palomino4Windows Server 2022 Datacenter / x64  OK    ERROR  skippedskipped
lconwaymacOS 12.5.1 Monterey / x86_64  OK    ERROR  skippedskipped
Package 11/19HostnameOS / ArchINSTALLBUILDCHECKBUILD BIN
GEOexplorer 1.4.0  (landing page)
Guy Hunt
git_last_commit: e59cd7e
git_last_commit_date: 2022-11-01 11:25:26 -0500
nebbiolo2Linux (Ubuntu 20.04.5 LTS) / x86_64  OK    OK    OK  UNNEEDED, same version is already published
palomino4Windows Server 2022 Datacenter / x64  OK    OK    OK    OK  UNNEEDED, same version is already published
lconwaymacOS 12.5.1 Monterey / x86_64  OK    OK    OK    OK  UNNEEDED, same version is already published
Package 12/19HostnameOS / ArchINSTALLBUILDCHECKBUILD BIN
GEOmetadb 1.60.0  (landing page)
Jack Zhu
git_last_commit: b7f0ffd
git_last_commit_date: 2022-11-01 11:03:47 -0500
nebbiolo2Linux (Ubuntu 20.04.5 LTS) / x86_64  OK    OK    WARNINGS  UNNEEDED, same version is already published
palomino4Windows Server 2022 Datacenter / x64  OK    OK    WARNINGS    OK  UNNEEDED, same version is already published
lconwaymacOS 12.5.1 Monterey / x86_64  OK    OK    WARNINGS    OK  UNNEEDED, same version is already published
Package 13/19HostnameOS / ArchINSTALLBUILDCHECKBUILD BIN
MACPET 1.18.0  (landing page)
Ioannis Vardaxis
git_last_commit: e36a36d
git_last_commit_date: 2022-11-01 11:17:11 -0500
nebbiolo2Linux (Ubuntu 20.04.5 LTS) / x86_64  ERROR    ERROR  skipped
palomino4Windows Server 2022 Datacenter / x64  ERROR    ERROR  skippedskipped
lconwaymacOS 12.5.1 Monterey / x86_64  ERROR    ERROR  skippedskipped
Package 14/19HostnameOS / ArchINSTALLBUILDCHECKBUILD BIN
minfi 1.44.0  (landing page)
Kasper Daniel Hansen
git_last_commit: 7c89fef
git_last_commit_date: 2022-11-01 11:06:23 -0500
nebbiolo2Linux (Ubuntu 20.04.5 LTS) / x86_64  OK    OK    OK  UNNEEDED, same version is already published
palomino4Windows Server 2022 Datacenter / x64  OK    OK    OK    OK  UNNEEDED, same version is already published
lconwaymacOS 12.5.1 Monterey / x86_64  OK    OK    OK    OK  UNNEEDED, same version is already published
Package 15/19HostnameOS / ArchINSTALLBUILDCHECKBUILD BIN
MoonlightR 1.24.0  (landing page)
Matteo Tiberti
git_last_commit: 4135c48
git_last_commit_date: 2022-11-01 11:14:39 -0500
nebbiolo2Linux (Ubuntu 20.04.5 LTS) / x86_64  OK    OK    OK  UNNEEDED, same version is already published
palomino4Windows Server 2022 Datacenter / x64  OK    OK    OK    OK  UNNEEDED, same version is already published
lconwaymacOS 12.5.1 Monterey / x86_64  OK    OK    OK    OK  UNNEEDED, same version is already published
Package 16/19HostnameOS / ArchINSTALLBUILDCHECKBUILD BIN
phantasus 1.18.4  (landing page)
Alexey Sergushichev
git_last_commit: 4458180
git_last_commit_date: 2022-12-21 17:25:09 -0500
nebbiolo2Linux (Ubuntu 20.04.5 LTS) / x86_64  OK    OK    OK  UNNEEDED, same version is already published
palomino4Windows Server 2022 Datacenter / x64  OK    OK    OK    OK  UNNEEDED, same version is already published
lconwaymacOS 12.5.1 Monterey / x86_64  OK    OK    OK    OK  UNNEEDED, same version is already published
Package 17/19HostnameOS / ArchINSTALLBUILDCHECKBUILD BIN
recount 1.24.0  (landing page)
Leonardo Collado-Torres
git_last_commit: 7fb145e
git_last_commit_date: 2022-12-14 00:57:03 -0500
nebbiolo2Linux (Ubuntu 20.04.5 LTS) / x86_64  OK    OK    ERROR  
palomino4Windows Server 2022 Datacenter / x64  OK    OK    ERROR    OK  
lconwaymacOS 12.5.1 Monterey / x86_64  OK    OK    ERROR    OK  
Package 18/19HostnameOS / ArchINSTALLBUILDCHECKBUILD BIN
SCAN.UPC 2.40.0  (landing page)
Stephen R. Piccolo
git_last_commit: 56e8db8
git_last_commit_date: 2022-11-01 11:07:26 -0500
nebbiolo2Linux (Ubuntu 20.04.5 LTS) / x86_64  OK    OK    OK  UNNEEDED, same version is already published
palomino4Windows Server 2022 Datacenter / x64  OK    OK    OK    OK  UNNEEDED, same version is already published
lconwaymacOS 12.5.1 Monterey / x86_64  OK    OK    OK    OK  UNNEEDED, same version is already published
Package 19/19HostnameOS / ArchINSTALLBUILDCHECKBUILD BIN
SRAdb 1.60.0  (landing page)
Jack Zhu
git_last_commit: 5f86d95
git_last_commit_date: 2022-11-01 11:05:00 -0500
nebbiolo2Linux (Ubuntu 20.04.5 LTS) / x86_64  OK    OK    OK  UNNEEDED, same version is already published
palomino4Windows Server 2022 Datacenter / x64  OK    OK    OK    OK  UNNEEDED, same version is already published
lconwaymacOS 12.5.1 Monterey / x86_64  OK    OK    OK    OK  UNNEEDED, same version is already published