Name | Last modified | Size | Description | |
---|---|---|---|---|
Parent Directory | - | |||
install-summary.dcf | 24-Jul-2024 22:04 | 276 | ||
install-out.txt | 24-Jul-2024 22:04 | 1.6K | ||
checksrc-summary.dcf | 24-Jul-2024 22:04 | 469 | ||
checksrc-out.txt | 24-Jul-2024 22:04 | 3.9K | ||
buildsrc-summary.dcf | 24-Jul-2024 22:04 | 468 | ||
buildsrc-out.txt | 24-Jul-2024 22:04 | 956 | ||
buildbin-summary.dcf | 24-Jul-2024 22:04 | 538 | ||
buildbin-out.txt | 24-Jul-2024 22:04 | 1.8K | ||