Name | Last modified | Size | Description | |
---|---|---|---|---|
Parent Directory | - | |||
install-summary.dcf | 29-Jun-2024 06:41 | 276 | ||
install-out.txt | 29-Jun-2024 06:41 | 1.6K | ||
checksrc-summary.dcf | 29-Jun-2024 06:41 | 469 | ||
checksrc-out.txt | 29-Jun-2024 06:41 | 3.9K | ||
buildsrc-summary.dcf | 29-Jun-2024 06:41 | 468 | ||
buildsrc-out.txt | 29-Jun-2024 06:41 | 956 | ||
buildbin-summary.dcf | 29-Jun-2024 06:41 | 538 | ||
buildbin-out.txt | 29-Jun-2024 06:41 | 1.8K | ||