Name | Last modified | Size | Description | |
---|---|---|---|---|
Parent Directory | - | |||
checksrc-out.txt | 27-Jul-2024 06:38 | 3.9K | ||
install-out.txt | 27-Jul-2024 06:38 | 1.7K | ||
buildsrc-out.txt | 27-Jul-2024 06:38 | 925 | ||
checksrc-summary.dcf | 27-Jul-2024 06:38 | 436 | ||
buildsrc-summary.dcf | 27-Jul-2024 06:38 | 429 | ||
install-summary.dcf | 27-Jul-2024 06:38 | 267 | ||