Name | Last modified | Size | Description | |
---|---|---|---|---|
Parent Directory | - | |||
install-summary.dcf | 24-Jul-2024 22:06 | 277 | ||
buildsrc-summary.dcf | 24-Jul-2024 22:06 | 440 | ||
checksrc-summary.dcf | 24-Jul-2024 22:06 | 466 | ||
buildbin-summary.dcf | 24-Jul-2024 22:06 | 554 | ||
buildsrc-out.txt | 24-Jul-2024 22:06 | 935 | ||
install-out.txt | 24-Jul-2024 22:06 | 1.7K | ||
buildbin-out.txt | 24-Jul-2024 22:06 | 1.9K | ||
checksrc-out.txt | 24-Jul-2024 22:06 | 4.0K | ||