Name | Last modified | Size | Description | |
---|---|---|---|---|
Parent Directory | - | |||
buildbin-out.txt | 12-Jun-2024 03:42 | 1.9K | ||
buildbin-summary.dcf | 12-Jun-2024 03:42 | 554 | ||
buildsrc-out.txt | 12-Jun-2024 03:42 | 935 | ||
buildsrc-summary.dcf | 12-Jun-2024 03:42 | 439 | ||
checksrc-out.txt | 12-Jun-2024 03:42 | 4.0K | ||
checksrc-summary.dcf | 12-Jun-2024 03:42 | 466 | ||
install-out.txt | 12-Jun-2024 03:42 | 1.7K | ||
install-summary.dcf | 12-Jun-2024 03:42 | 277 | ||