Name | Last modified | Size | Description | |
---|---|---|---|---|
Parent Directory | - | |||
install-summary.dcf | 10-May-2024 00:40 | 278 | ||
install-out.txt | 10-May-2024 00:40 | 1.7K | ||
checksrc-summary.dcf | 10-May-2024 00:40 | 471 | ||
checksrc-out.txt | 10-May-2024 00:40 | 6.6K | ||
buildsrc-summary.dcf | 10-May-2024 00:40 | 440 | ||
buildsrc-out.txt | 10-May-2024 00:40 | 936 | ||