Index of /checkResults/release/bioc-LATEST/GENESIS/raw-results/palomino3

[ICO]NameLast modifiedSizeDescription

[DIR]Parent Directory  -  
[TXT]buildbin-out.txt15-Jun-2024 03:38 1.6K 
[   ]buildbin-summary.dcf15-Jun-2024 03:38 516  
[TXT]buildsrc-out.txt15-Jun-2024 03:38 931  
[   ]buildsrc-summary.dcf15-Jun-2024 03:38 453  
[TXT]checksrc-out.txt15-Jun-2024 03:38 4.6K 
[   ]checksrc-summary.dcf15-Jun-2024 03:38 447  
[TXT]install-out.txt15-Jun-2024 03:38 1.5K 
[   ]install-summary.dcf15-Jun-2024 03:38 268