Index of /checkResults/release/bioc-LATEST/GENESIS/raw-results/nebbiolo1

[ICO]NameLast modifiedSizeDescription

[DIR]Parent Directory  -  
[TXT]buildsrc-out.txt22-Jun-2024 06:38 899  
[   ]buildsrc-summary.dcf22-Jun-2024 06:38 417  
[TXT]checksrc-out.txt22-Jun-2024 06:38 4.1K 
[   ]checksrc-summary.dcf22-Jun-2024 06:38 414  
[TXT]install-out.txt22-Jun-2024 06:38 1.4K 
[   ]install-summary.dcf22-Jun-2024 06:38 259