Name | Last modified | Size | Description | |
---|---|---|---|---|
Parent Directory | - | |||
buildbin-summary.dcf | 12-Jun-2024 03:43 | 530 | ||
buildbin-out.txt | 12-Jun-2024 03:43 | 3.6K | ||
checksrc-summary.dcf | 12-Jun-2024 03:43 | 444 | ||
checksrc-out.txt | 12-Jun-2024 03:43 | 4.3K | ||
buildsrc-out.txt | 12-Jun-2024 03:43 | 909 | ||
buildsrc-summary.dcf | 12-Jun-2024 03:43 | 428 | ||
install-summary.dcf | 12-Jun-2024 03:43 | 269 | ||
install-out.txt | 12-Jun-2024 03:43 | 1.7K | ||