Index of /checkResults/release/bioc-LATEST/GENESIS/raw-results/kjohnson1

[ICO]NameLast modifiedSizeDescription

[DIR]Parent Directory  -  
[TXT]buildbin-out.txt13-Jul-2024 06:42 3.6K 
[   ]buildbin-summary.dcf13-Jul-2024 06:42 530  
[TXT]buildsrc-out.txt13-Jul-2024 06:42 909  
[   ]buildsrc-summary.dcf13-Jul-2024 06:42 428  
[TXT]checksrc-out.txt13-Jul-2024 06:42 4.2K 
[   ]checksrc-summary.dcf13-Jul-2024 06:42 444  
[TXT]install-out.txt13-Jul-2024 06:42 1.7K 
[   ]install-summary.dcf13-Jul-2024 06:42 269