Name | Last modified | Size | Description | |
---|---|---|---|---|
Parent Directory | - | |||
buildbin-summary.dcf | 17-Jul-2024 06:39 | 491 | ||
buildbin-out.txt | 17-Jul-2024 06:39 | 1.0K | ||
checksrc-summary.dcf | 17-Jul-2024 06:39 | 430 | ||
checksrc-out.txt | 17-Jul-2024 06:39 | 3.2K | ||
buildsrc-summary.dcf | 17-Jul-2024 06:39 | 436 | ||
buildsrc-out.txt | 17-Jul-2024 06:39 | 856 | ||
install-summary.dcf | 17-Jul-2024 06:39 | 260 | ||
install-out.txt | 17-Jul-2024 06:39 | 950 | ||