Index of /checkResults/release/bioc-LATEST/GAprediction/raw-results
Name
Last modified
Size
Description
Parent Directory
-
palomino3/
23-May-2024 00:35
-
nebbiolo1/
28-May-2024 00:35
-
merida1/
05-Mar-2024 01:39
-
lconway/
28-May-2024 00:35
-
kunpeng2/
10-May-2024 00:40
-
info.dcf
28-May-2024 00:34
279