Name | Last modified | Size | Description | |
---|---|---|---|---|
Parent Directory | - | |||
buildsrc-out.txt | 27-Jul-2024 06:38 | 794 | ||
buildsrc-summary.dcf | 27-Jul-2024 06:38 | 409 | ||
checksrc-out.txt | 27-Jul-2024 06:38 | 3.3K | ||
checksrc-summary.dcf | 27-Jul-2024 06:38 | 402 | ||
install-out.txt | 27-Jul-2024 06:38 | 1.0K | ||
install-summary.dcf | 27-Jul-2024 06:38 | 253 | ||