Index of /checkResults/release/bioc-LATEST/GARS/raw-results/kjohnson3
Name
Last modified
Size
Description
Parent Directory
-
buildsrc-out.txt
12-Jun-2024 03:43
1.4K
buildsrc-summary.dcf
12-Jun-2024 03:43
338
install-out.txt
12-Jun-2024 03:43
1.0K
install-summary.dcf
12-Jun-2024 03:43
263