![]() | Name | Last modified | Size | Description |
---|---|---|---|---|
![]() | Parent Directory | - | ||
![]() | buildbin-out.txt | 01-Oct-2023 00:37 | 1.5K | |
![]() | buildbin-summary.dcf | 01-Oct-2023 00:37 | 549 | |
![]() | buildsrc-out.txt | 01-Oct-2023 00:37 | 868 | |
![]() | buildsrc-summary.dcf | 01-Oct-2023 00:37 | 436 | |
![]() | checksrc-out.txt | 01-Oct-2023 00:37 | 3.4K | |
![]() | checksrc-summary.dcf | 01-Oct-2023 00:37 | 456 | |
![]() | install-out.txt | 01-Oct-2023 00:37 | 1.3K | |
![]() | install-summary.dcf | 01-Oct-2023 00:37 | 276 | |