Index of /checkResults/release/bioc-LATEST/GA4GHshiny/raw-results
Name
Last modified
Size
Description
Parent Directory
-
merida1/
04-Oct-2023 00:37
-
nebbiolo1/
04-Oct-2023 00:35
-
palomino3/
04-Oct-2023 00:36
-
info.dcf
04-Oct-2023 00:37
276