Back to Multiple platform build/check report for BioC 3.12
ABCDEF[G]HIJKLMNOPQRSTUVWXYZ

Multiple platform build/check report for BioC 3.12

Results for GA4GHshiny

This page was generated on 2020-11-23 12:11:09 -0500 (Mon, 23 Nov 2020).

Package 657/1974HostnameOS / ArchINSTALLBUILDCHECKBUILD BIN
GA4GHshiny 1.12.0
Welliton Souza
Snapshot Date: 2020-11-22 14:42:09 -0500 (Sun, 22 Nov 2020)
URL: https://git.bioconductor.org/packages/GA4GHshiny
Branch: RELEASE_3_12
Last Commit: e1efc4e
Last Changed Date: 2020-10-27 11:24:31 -0500 (Tue, 27 Oct 2020)
malbec1 Linux (Ubuntu 18.04.4 LTS) / x86_64  OK  OK  OK UNNEEDED, same version exists in internal repository
nebbiolo1 Linux (Ubuntu 20.04.1 LTS) / x86_64  OK  OK  OK 
tokay1 Windows Server 2012 R2 Standard / x64  OK  OK  OK  OK UNNEEDED, same version exists in internal repository
merida1 macOS 10.14.6 Mojave / x86_64  OK  OK  OK  OK UNNEEDED, same version exists in internal repository