![]() | Name | Last modified | Size | Description |
---|---|---|---|---|
![]() | Parent Directory | - | ||
![]() | buildbin-out.txt | 24-Sep-2023 00:35 | 1.4K | |
![]() | buildbin-summary.dcf | 24-Sep-2023 00:35 | 539 | |
![]() | buildsrc-out.txt | 24-Sep-2023 00:35 | 1.1K | |
![]() | buildsrc-summary.dcf | 24-Sep-2023 00:35 | 469 | |
![]() | checksrc-out.txt | 24-Sep-2023 00:35 | 3.1K | |
![]() | checksrc-summary.dcf | 24-Sep-2023 00:35 | 463 | |
![]() | install-out.txt | 24-Sep-2023 00:35 | 1.2K | |
![]() | install-summary.dcf | 24-Sep-2023 00:35 | 276 | |