![]() | Name | Last modified | Size | Description |
---|---|---|---|---|
![]() | Parent Directory | - | ||
![]() | buildbin-out.txt | 24-Sep-2023 00:36 | 1.5K | |
![]() | buildbin-summary.dcf | 24-Sep-2023 00:36 | 555 | |
![]() | buildsrc-out.txt | 24-Sep-2023 00:36 | 1.1K | |
![]() | buildsrc-summary.dcf | 24-Sep-2023 00:36 | 440 | |
![]() | checksrc-out.txt | 24-Sep-2023 00:36 | 3.2K | |
![]() | checksrc-summary.dcf | 24-Sep-2023 00:36 | 460 | |
![]() | install-out.txt | 24-Sep-2023 00:36 | 1.3K | |
![]() | install-summary.dcf | 24-Sep-2023 00:36 | 278 | |