Name | Last modified | Size | Description | |
---|---|---|---|---|
Parent Directory | - | |||
install-out.txt | 05-May-2024 00:39 | 1.3K | ||
install-summary.dcf | 05-May-2024 00:39 | 277 | ||
buildsrc-summary.dcf | 05-May-2024 00:39 | 439 | ||
buildsrc-out.txt | 05-May-2024 00:39 | 1.1K | ||
checksrc-out.txt | 05-May-2024 00:39 | 3.1K | ||
checksrc-summary.dcf | 05-May-2024 00:39 | 460 | ||
buildbin-out.txt | 05-May-2024 00:39 | 1.5K | ||
buildbin-summary.dcf | 05-May-2024 00:39 | 554 | ||