Name | Last modified | Size | Description | |
---|---|---|---|---|
Parent Directory | - | |||
install-out.txt | 17-Jul-2024 06:42 | 1.3K | ||
install-summary.dcf | 17-Jul-2024 06:42 | 277 | ||
buildsrc-out.txt | 17-Jul-2024 06:42 | 1.1K | ||
buildsrc-summary.dcf | 17-Jul-2024 06:42 | 439 | ||
checksrc-out.txt | 17-Jul-2024 06:42 | 3.1K | ||
checksrc-summary.dcf | 17-Jul-2024 06:42 | 460 | ||
buildbin-out.txt | 17-Jul-2024 06:42 | 1.5K | ||
buildbin-summary.dcf | 17-Jul-2024 06:42 | 554 | ||