Back to Multiple platform build/check report for BioC 3.12
ABCDE[F]GHIJKLMNOPQRSTUVWXYZ

Multiple platform build/check report for BioC 3.12

Results for FunciSNP

This page was generated on 2020-11-23 12:11:09 -0500 (Mon, 23 Nov 2020).

Package 654/1974HostnameOS / ArchINSTALLBUILDCHECKBUILD BIN
FunciSNP 1.34.0
Simon G. Coetzee
Snapshot Date: 2020-11-22 14:42:09 -0500 (Sun, 22 Nov 2020)
URL: https://git.bioconductor.org/packages/FunciSNP
Branch: RELEASE_3_12
Last Commit: f3222c1
Last Changed Date: 2020-10-27 10:46:05 -0500 (Tue, 27 Oct 2020)
malbec1 Linux (Ubuntu 18.04.4 LTS) / x86_64  OK  OK  WARNINGS UNNEEDED, same version exists in internal repository
nebbiolo1 Linux (Ubuntu 20.04.1 LTS) / x86_64  OK  OK  WARNINGS 
tokay1 Windows Server 2012 R2 Standard / x64  ERROR  ERROR  skipped  skipped 
merida1 macOS 10.14.6 Mojave / x86_64  ERROR  ERROR  skipped  skipped